FILENAME: O4711340.NWS.958305.tif
QUADRANGLE_NAME: TRAP MOUNTAIN
QUADRANT: NW
WEST_LONGITUDE: -113 7 30.00000
EAST_LONGITUDE: -113 3 45.00000
NORTH_LATITUDE: 47 30 0.00000
SOUTH_LATITUDE: 47 26 15.00000
PRODUCTION_DATE: 1998 12 10
RASTER_ORDER: LEFT_RIGHT/TOP_BOTTOM
BAND_ORGANIZATION: SINGLE FILE
BAND_CONTENT: BLACK&WHITE
BAND_CONTENT: UNDEFINED
BAND_CONTENT: UNDEFINED
BITS_PER_PIXEL: 8
SAMPLES_AND_LINES: 5580 7710
HORIZONTAL_DATUM: NAD83
HORIZONTAL_COORDINATE_SYSTEM: UTM
COORDINATE_ZONE: 12
HORIZONTAL_UNITS: METERS
HORIZONTAL_RESOLUTION: 1.00000
SECONDARY_HORIZONTAL_DATUM: NAD27
XY_ORIGIN: 339390.00000 5263230.00000
SECONDARY_XY_ORIGIN: 339452.24500 5263016.03600
NATION: US
STATE: MT
NW_QUAD_CORNER_XY: 339962.11600 5262918.27900
NE_QUAD_CORNER_XY: 344668.93400 5262791.41000
SE_QUAD_CORNERY_XY: 344484.61000 5255845.82400
SW_QUAD_CORNER_XY: 339772.20200 5255972.71600
SECONDARY_NW_QUAD_XY: 339957.13100 5262699.61300
SECONDARY_NE_QUAD_XY: 344664.09600 5262572.74000
SECONDARY_SE_QUAD_XY: 344479.77300 5255627.17500
SECONDARY_SW_QUAD_XY: 339767.21700 5255754.07200
RMSE_XY: 2.20000
IMAGE_SOURCE: BLACK AND WHITE FILM
SOURCE_IMAGE_ID: NAPP 8401 109
SOURCE_IMAGE_DATE: 1995 08 31
SOURCE_DEM_DATE: 1997 00 00
AGENCY: WESTERN MAPPING CENTER (WMC)
PRODUCER: ANALYTICAL SURVEYS INC.
PRODUCTION_SYSTEM: ORBIT OR_RECTIFY V.5.2
COMPRESSION: UNDEFINED
STANDARD_VERSION: 1996 12
METADATA_DATE: 1998 12 31
DATA_FILE_SIZE: 43027380
BYTE_COUNT: 5580
