Note: This header file was extracted from a digital orthophoto image that covers a full 7.5-minute quadrangle in Universal Transverse Mercator Coordinates. The State Library converted that image to Montana State Plane Coordinates, units meters, and extracted portions of the image that cover a 3.75-minute quarter-quadrangle. The coordinates given in this file do not apply to the State Plane Coordinate images.
BEGIN_USGS_DOQ_HEADER *
QUADRANGLE_NAME "LAKE INEZ" *
QUADRANT *
WEST_LONGITUDE -113 37 30.000 *
EAST_LONGITUDE -113 30 0.000 *
NORTH_LATITUDE 47 22 30.000 *
SOUTH_LATITUDE 47 15 0.000 *
PRODUCTION_DATE 2004 9 21 *
RASTER_ORDER LEFT_RIGHT/TOP_BOTTOM *
BAND_ORGANIZATION "SINGLE FILE" *
BAND_CONTENT BLACK&WHITE *
BITS_PER_PIXEL 8 *
SAMPLES_AND_LINES 10573 14811 *
HORIZONTAL_DATUM NAD83 *
HORIZONTAL_COORDINATE_SYSTEM UTM *
COORDINATE_ZONE 12 *
HORIZONTAL_UNITS METERS *
HORIZONTAL_RESOLUTION 1.0 *
SECONDARY_HORIZONTAL_DATUM NAD27 *
XY_ORIGIN 301001.800 5250488.540 *
SECONDARY_XY_ORIGIN 301065.250 5250274.746 *
NATION US *
STATE MT *
NW_QUAD_CORNER_XY 301839.138 5250179.065 *
NE_QUAD_CORNER_XY 311274.866 5249868.346 *
SE_QUAD_CORNER_XY 310829.070 5235977.842 *
SW_QUAD_CORNER_XY 301371.025 5236288.670 *
SECONDARY_NW_QUAD_XY 301832.985 5249960.481 *
SECONDARY_NE_QUAD_XY 311269.007 5249649.751 *
SECONDARY_SE_QUAD_XY 310823.212 5235759.296 *
SECONDARY_SW_QUAD_XY 301364.874 5236070.134 *
RMSE_XY 1.15 *
IMAGE_SOURCE "BLACK AND WHITE FILM" *
SOURCE_IMAGE_ID "NAPP 12666 14" *
SOURCE_IMAGE_DATE 2003 7 1 *
SOURCE_IMAGE_ID "NAPP 12666 12" *
SOURCE_IMAGE_DATE 2003 7 1 *
SOURCE_IMAGE_ID "NAPP 12679 18" *
SOURCE_IMAGE_DATE 2003 9 27 *
SOURCE_IMAGE_ID "NAPP 12679 16" *
SOURCE_IMAGE_DATE 2003 9 27 *
SOURCE_IMAGE_ID "NAPP 12666 15" *
SOURCE_IMAGE_DATE 2003 7 1 *
SOURCE_IMAGE_ID "NAPP 12666 13" *
SOURCE_IMAGE_DATE 2003 7 1 *
SOURCE_IMAGE_ID "NAPP 12676 122" *
SOURCE_IMAGE_DATE 2003 9 24 *
SOURCE_IMAGE_ID "NAPP 12679 15" *
SOURCE_IMAGE_DATE 2003 9 27 *
SOURCE_IMAGE_ID "NAPP 12679 17" *
SOURCE_IMAGE_DATE 2003 9 27 *
SOURCE_IMAGE_ID "NAPP 12679 19" *
SOURCE_IMAGE_DATE 2003 9 27 *
SOURCE_IMAGE_ID "NAPP 12666 52" *
SOURCE_IMAGE_DATE 2003 7 1 *
SOURCE_IMAGE_ID "NAPP 12666 53" *
SOURCE_IMAGE_DATE 2003 7 1 *
SOURCE_IMAGE_ID "NAPP 12666 54" *
SOURCE_IMAGE_DATE 2003 7 1 *
SOURCE_IMAGE_ID "NAPP 12666 55" *
SOURCE_IMAGE_DATE 2003 7 1 *
SOURCE_IMAGE_ID "NAPP 12676 123" *
SOURCE_IMAGE_DATE 2003 9 24 *
SOURCE_IMAGE_ID "NAPP 12676 11" *
SOURCE_IMAGE_DATE 2003 9 24 *
SOURCE_IMAGE_ID "NAPP 12676 12" *
SOURCE_IMAGE_DATE 2003 9 24 *
SOURCE_IMAGE_ID "NAPP 12676 13" *
SOURCE_IMAGE_DATE 2003 9 24 *
SOURCE_IMAGE_ID "NAPP 12676 14" *
SOURCE_IMAGE_DATE 2003 9 24 *
SOURCE_IMAGE_ID "NAPP 12676 15" *
SOURCE_IMAGE_DATE 2003 9 24 *
SOURCE_DEM_DATE 2004 1 1 *
AGENCY "WESTERN MAPPING CENTER (WMC)" *
PRODUCER "USDA FS GEOSPATIAL SERVICE AND TECHNOLOGY CENTER" *
PRODUCTION_SYSTEM "ORBIT OR_RECTIFY V.5.2" *
STANDARD_VERSION 1996 12 *
METADATA_DATE 2004 10 1 *
DATA_FILE_SIZE 156607276 *
BYTE_COUNT 10573 * *
