Note: This header file was extracted from a digital orthophoto image that covers a full 7.5-minute quadrangle in Universal Transverse Mercator Coordinates. The State Library converted that image to Montana State Plane Coordinates, units meters, and extracted portions of the image that cover a 3.75-minute quarter-quadrangle. The coordinates given in this file do not apply to the State Plane Coordinate images.
BEGIN_USGS_DOQ_HEADER *
QUADRANGLE_NAME "CRIMSON PEAK" *
QUADRANT *
WEST_LONGITUDE -113 22 30.000 *
EAST_LONGITUDE -113 15 0.000 *
NORTH_LATITUDE 47 22 30.000 *
SOUTH_LATITUDE 47 15 0.000 *
PRODUCTION_DATE 2004 9 28 *
RASTER_ORDER LEFT_RIGHT/TOP_BOTTOM *
BAND_ORGANIZATION "SINGLE FILE" *
BAND_CONTENT BLACK&WHITE *
BITS_PER_PIXEL 8 *
SAMPLES_AND_LINES 10528 14776 *
HORIZONTAL_DATUM NAD83 *
HORIZONTAL_COORDINATE_SYSTEM UTM *
COORDINATE_ZONE 12 *
HORIZONTAL_UNITS METERS *
HORIZONTAL_RESOLUTION 1.0 *
SECONDARY_HORIZONTAL_DATUM NAD27 *
XY_ORIGIN 319918.633 5249872.800 *
SECONDARY_XY_ORIGIN 319981.525 5249658.955 *
NATION US *
STATE MT *
NW_QUAD_CORNER_XY 320710.668 5249572.800 *
NE_QUAD_CORNER_XY 330146.540 5249292.425 *
SE_QUAD_CORNER_XY 329745.367 5235401.720 *
SW_QUAD_CORNER_XY 320287.185 5235682.192 *
SECONDARY_NW_QUAD_XY 320705.103 5249354.196 *
SECONDARY_NE_QUAD_XY 330141.268 5249073.813 *
SECONDARY_SE_QUAD_XY 329740.096 5235183.156 *
SECONDARY_SW_QUAD_XY 320281.621 5235463.638 *
RMSE_XY 0.74 *
IMAGE_SOURCE "BLACK AND WHITE FILM" *
SOURCE_IMAGE_ID "NAPP 12659 114" *
SOURCE_IMAGE_DATE 2002 9 13 *
SOURCE_IMAGE_ID "NAPP 12659 116" *
SOURCE_IMAGE_DATE 2002 9 13 *
SOURCE_IMAGE_ID "NAPP 12659 73" *
SOURCE_IMAGE_DATE 2002 9 13 *
SOURCE_IMAGE_ID "NAPP 12659 75" *
SOURCE_IMAGE_DATE 2002 9 13 *
SOURCE_IMAGE_ID "NAPP 12659 113" *
SOURCE_IMAGE_DATE 2002 9 13 *
SOURCE_IMAGE_ID "NAPP 12659 115" *
SOURCE_IMAGE_DATE 2002 9 13 *
SOURCE_IMAGE_ID "NAPP 12659 117" *
SOURCE_IMAGE_DATE 2002 9 13 *
SOURCE_IMAGE_ID "NAPP 12659 76" *
SOURCE_IMAGE_DATE 2002 9 13 *
SOURCE_IMAGE_ID "NAPP 12659 74" *
SOURCE_IMAGE_DATE 2002 9 13 *
SOURCE_IMAGE_ID "NAPP 12659 72" *
SOURCE_IMAGE_DATE 2002 9 13 *
SOURCE_IMAGE_ID "NAPP 12659 206" *
SOURCE_IMAGE_DATE 2002 9 13 *
SOURCE_DEM_DATE 2004 1 1 *
AGENCY "WESTERN MAPPING CENTER (WMC)" *
PRODUCER "USDA FS GEOSPATIAL SERVICE AND TECHNOLOGY CENTER" *
PRODUCTION_SYSTEM "ORBIT OR_RECTIFY V.5.2" *
STANDARD_VERSION 1996 12 *
METADATA_DATE 2004 10 4 *
DATA_FILE_SIZE 155572256 *
BYTE_COUNT 10528 * *
