FILENAME: O4711348.SES.949878.tif
QUADRANGLE_NAME: DANAHER MOUNTAIN
QUADRANT: SE
WEST_LONGITUDE: -113 3 45.00000
EAST_LONGITUDE: -113 0 0.00000
NORTH_LATITUDE: 47 18 45.00000
SOUTH_LATITUDE: 47 15 0.00000
PRODUCTION_DATE: 1998 12 18
RASTER_ORDER: LEFT_RIGHT/TOP_BOTTOM
BAND_ORGANIZATION: SINGLE FILE
BAND_CONTENT: BLACK&WHITE
BAND_CONTENT: UNDEFINED
BAND_CONTENT: UNDEFINED
BITS_PER_PIXEL: 8
SAMPLES_AND_LINES: 5610 7680
HORIZONTAL_DATUM: NAD83
HORIZONTAL_COORDINATE_SYSTEM: UTM
COORDINATE_ZONE: 12
HORIZONTAL_UNITS: METERS
HORIZONTAL_RESOLUTION: 1.00000
SECONDARY_HORIZONTAL_DATUM: NAD27
XY_ORIGIN: 343560.00000 5242260.00000
SECONDARY_XY_ORIGIN: 343622.36800 5242046.10900
NATION: US
STATE: MT
NW_QUAD_CORNER_XY: 344116.52100 5241954.84900
NE_QUAD_CORNER_XY: 348840.10800 5241831.70300
SE_QUAD_CORNERY_XY: 348661.91600 5234886.29400
SW_QUAD_CORNER_XY: 343932.75600 5235009.46100
SECONDARY_NW_QUAD_XY: 344111.68500 5241736.24700
SECONDARY_NE_QUAD_XY: 348835.41800 5241613.09700
SECONDARY_SE_QUAD_XY: 348657.22700 5234667.71300
SECONDARY_SW_QUAD_XY: 343927.92100 5234790.88400
RMSE_XY: 4.76000
IMAGE_SOURCE: BLACK AND WHITE FILM
SOURCE_IMAGE_ID: NAPP 8399 18
SOURCE_IMAGE_DATE: 1995 08 28
SOURCE_IMAGE_ID: NAPP 8399 16
SOURCE_IMAGE_DATE: 1995 08 28
SOURCE_DEM_DATE: 1969 00 00
AGENCY: WESTERN MAPPING CENTER (WMC)
PRODUCER: ANALYTICAL SURVEYS INC.
PRODUCTION_SYSTEM: ORBIT OR_RECTIFY V.5.2
COMPRESSION: UNDEFINED
STANDARD_VERSION: 1996 12
METADATA_DATE: 1998 12 29
DATA_FILE_SIZE: 43090410
BYTE_COUNT: 5610
