FILENAME: O4711348.NWS.949877.tif
QUADRANGLE_NAME: DANAHER MOUNTAIN
QUADRANT: NW
WEST_LONGITUDE: -113 7 30.00000
EAST_LONGITUDE: -113 3 45.00000
NORTH_LATITUDE: 47 22 30.00000
SOUTH_LATITUDE: 47 18 45.00000
PRODUCTION_DATE: 1998 12 18
RASTER_ORDER: LEFT_RIGHT/TOP_BOTTOM
BAND_ORGANIZATION: SINGLE FILE
BAND_CONTENT: BLACK&WHITE
BAND_CONTENT: UNDEFINED
BAND_CONTENT: UNDEFINED
BITS_PER_PIXEL: 8
SAMPLES_AND_LINES: 5610 7710
HORIZONTAL_DATUM: NAD83
HORIZONTAL_COORDINATE_SYSTEM: UTM
COORDINATE_ZONE: 12
HORIZONTAL_UNITS: METERS
HORIZONTAL_RESOLUTION: 1.00000
SECONDARY_HORIZONTAL_DATUM: NAD27
XY_ORIGIN: 339000.00000 5249340.00000
SECONDARY_XY_ORIGIN: 339062.37700 5249126.09000
NATION: US
STATE: MT
NW_QUAD_CORNER_XY: 339582.47900 5249027.21900
NE_QUAD_CORNER_XY: 344300.47200 5248900.30300
SE_QUAD_CORNERY_XY: 344116.52100 5241954.84900
SW_QUAD_CORNER_XY: 339392.94900 5242081.78700
SECONDARY_NW_QUAD_XY: 339577.49600 5248808.59700
SECONDARY_NE_QUAD_XY: 344295.63500 5248681.67800
SECONDARY_SE_QUAD_XY: 344111.68500 5241736.24700
SECONDARY_SW_QUAD_XY: 339387.96600 5241863.18900
RMSE_XY: 4.84000
IMAGE_SOURCE: BLACK AND WHITE FILM
SOURCE_IMAGE_ID: NAPP 8401 113
SOURCE_IMAGE_DATE: 1995 08 31
SOURCE_IMAGE_ID: NAPP 8399 16
SOURCE_IMAGE_DATE: 1995 08 28
SOURCE_DEM_DATE: 1969 00 00
AGENCY: WESTERN MAPPING CENTER (WMC)
PRODUCER: ANALYTICAL SURVEYS INC.
PRODUCTION_SYSTEM: ORBIT OR_RECTIFY V.5.2
COMPRESSION: UNDEFINED
STANDARD_VERSION: 1996 12
METADATA_DATE: 1998 12 29
DATA_FILE_SIZE: 43258710
BYTE_COUNT: 5610
