FILENAME: O4711349.SES.1078769.tif
QUADRANGLE_NAME: GOLD CREEK
QUADRANT: SE
WEST_LONGITUDE: -113 56 15.00000
EAST_LONGITUDE: -113 52 30.00000
NORTH_LATITUDE: 47 11 15.00000
SOUTH_LATITUDE: 47 7 30.00000
PRODUCTION_DATE: 2000 3 22
RASTER_ORDER: LEFT_RIGHT/TOP_BOTTOM
BAND_ORGANIZATION: SINGLE FILE
BAND_CONTENT: BLACK&WHITE
BAND_CONTENT: UNDEFINED
BAND_CONTENT: UNDEFINED
BITS_PER_PIXEL: 8
SAMPLES_AND_LINES: 5670 7730
HORIZONTAL_DATUM: NAD83
HORIZONTAL_COORDINATE_SYSTEM: UTM
COORDINATE_ZONE: 12
HORIZONTAL_UNITS: METERS
HORIZONTAL_RESOLUTION: 1.00000
SECONDARY_HORIZONTAL_DATUM: NAD27
XY_ORIGIN: 276831.00000 5230488.00000
SECONDARY_XY_ORIGIN: 276895.27500 5230274.67800
NATION: US
NATION: "SCIENCE
STATE: MT
NW_QUAD_CORNER_XY: 277464.68200 5230187.20100
NE_QUAD_CORNER_XY: 282199.17200 5230010.87900
SE_QUAD_CORNERY_XY: 281943.44300 5223065.94100
SW_QUAD_CORNER_XY: 277203.38500 5223242.29200
SECONDARY_NW_QUAD_XY: 277457.79500 5229968.71500
SECONDARY_NE_QUAD_XY: 282192.43200 5229792.38700
SECONDARY_SE_QUAD_XY: 281936.70400 5222847.47500
SECONDARY_SW_QUAD_XY: 277196.50000 5223023.83200
RMSE_XY: 3.20000
IMAGE_SOURCE: BLACK AND WHITE FILM
SOURCE_IMAGE_ID: NAPP 8398 069
SOURCE_IMAGE_DATE: 1995 08 28
SOURCE_IMAGE_ID: NAPP 8396 160
SOURCE_IMAGE_DATE: 1995 08 27
SOURCE_IMAGE_ID: NAPP 8398 070
SOURCE_IMAGE_DATE: 1995 08 28
SOURCE_IMAGE_ID: NAPP 8398 068
SOURCE_IMAGE_DATE: 1995 08 28
SOURCE_DEM_DATE: 1964 00 00
AGENCY: WESTERN MAPPING CENTER (WMC)
PRODUCER: UNDEFINED
PRODUCTION_SYSTEM: GIS/MAGIC
COMPRESSION: UNDEFINED
STANDARD_VERSION: 1996 12
METADATA_DATE: 2000 05 27
DATA_FILE_SIZE: 43834770
BYTE_COUNT: 5670
