FILENAME: O4711349.NES.1078767.tif
QUADRANGLE_NAME: GOLD CREEK
QUADRANT: NE
WEST_LONGITUDE: -113 56 15.00000
EAST_LONGITUDE: -113 52 30.00000
NORTH_LATITUDE: 47 15 0.00000
SOUTH_LATITUDE: 47 11 15.00000
PRODUCTION_DATE: 2000 3 22
RASTER_ORDER: LEFT_RIGHT/TOP_BOTTOM
BAND_ORGANIZATION: SINGLE FILE
BAND_CONTENT: BLACK&WHITE
BAND_CONTENT: UNDEFINED
BAND_CONTENT: UNDEFINED
BITS_PER_PIXEL: 8
SAMPLES_AND_LINES: 5665 7730
HORIZONTAL_DATUM: NAD83
HORIZONTAL_COORDINATE_SYSTEM: UTM
COORDINATE_ZONE: 12
HORIZONTAL_UNITS: METERS
HORIZONTAL_RESOLUTION: 1.00000
SECONDARY_HORIZONTAL_DATUM: NAD27
XY_ORIGIN: 277092.00000 5237433.00000
SECONDARY_XY_ORIGIN: 277156.06400 5237219.49400
NATION: US
NATION: "SCIENCE
STATE: MT
NW_QUAD_CORNER_XY: 277726.24400 5237132.16600
NE_QUAD_CORNER_XY: 282455.16100 5236955.87400
SE_QUAD_CORNERY_XY: 282199.17200 5230010.87900
SW_QUAD_CORNER_XY: 277464.68200 5230187.20100
SECONDARY_NW_QUAD_XY: 277719.35600 5236913.65500
SECONDARY_NE_QUAD_XY: 282448.42000 5236737.35700
SECONDARY_SE_QUAD_XY: 282192.43200 5229792.38700
SECONDARY_SW_QUAD_XY: 277457.79500 5229968.71500
RMSE_XY: 3.20000
IMAGE_SOURCE: BLACK AND WHITE FILM
SOURCE_IMAGE_ID: NAPP 8398 067
SOURCE_IMAGE_DATE: 1995 08 28
SOURCE_IMAGE_ID: NAPP 8398 068
SOURCE_IMAGE_DATE: 1995 08 28
SOURCE_IMAGE_ID: NAPP 8398 055
SOURCE_IMAGE_DATE: 1995 08 28
SOURCE_DEM_DATE: 1964 00 00
AGENCY: WESTERN MAPPING CENTER (WMC)
PRODUCER: UNDEFINED
PRODUCTION_SYSTEM: GIS/MAGIC
COMPRESSION: UNDEFINED
STANDARD_VERSION: 1996 12
METADATA_DATE: 2000 05 27
DATA_FILE_SIZE: 43796115
BYTE_COUNT: 5665
