FILENAME: O4711350.SWS.1078802.tif
QUADRANGLE_NAME: BELMORE SLOUGHS
QUADRANT: SW
WEST_LONGITUDE: -113 52 30.00000
EAST_LONGITUDE: -113 48 45.00000
NORTH_LATITUDE: 47 11 15.00000
SOUTH_LATITUDE: 47 7 30.00000
PRODUCTION_DATE: 2000 3 22
RASTER_ORDER: LEFT_RIGHT/TOP_BOTTOM
BAND_ORGANIZATION: SINGLE FILE
BAND_CONTENT: BLACK&WHITE
BAND_CONTENT: UNDEFINED
BAND_CONTENT: UNDEFINED
BITS_PER_PIXEL: 8
SAMPLES_AND_LINES: 5664 7725
HORIZONTAL_DATUM: NAD83
HORIZONTAL_COORDINATE_SYSTEM: UTM
COORDINATE_ZONE: 12
HORIZONTAL_UNITS: METERS
HORIZONTAL_RESOLUTION: 1.00000
SECONDARY_HORIZONTAL_DATUM: NAD27
XY_ORIGIN: 281571.00000 5230311.00000
SECONDARY_XY_ORIGIN: 281635.18600 5230097.64500
NATION: US
NATION: "SCIENCE
STATE: MT
NW_QUAD_CORNER_XY: 282199.17200 5230010.87900
NE_QUAD_CORNER_XY: 286933.68200 5229838.35400
SE_QUAD_CORNERY_XY: 286683.52100 5222893.38800
SW_QUAD_CORNER_XY: 281943.44300 5223065.94100
SECONDARY_NW_QUAD_XY: 282192.43200 5229792.38700
SECONDARY_NE_QUAD_XY: 286927.08800 5229619.85700
SECONDARY_SE_QUAD_XY: 286676.92800 5222674.91700
SECONDARY_SW_QUAD_XY: 281936.70400 5222847.47500
RMSE_XY: 3.00000
IMAGE_SOURCE: BLACK AND WHITE FILM
SOURCE_IMAGE_ID: NAPP 8398 054
SOURCE_IMAGE_DATE: 1995 08 28
SOURCE_IMAGE_ID: NAPP 8398 053
SOURCE_IMAGE_DATE: 1995 08 28
SOURCE_IMAGE_ID: NAPP 8398 055
SOURCE_IMAGE_DATE: 1995 08 28
SOURCE_IMAGE_ID: NAPP 8398 044
SOURCE_IMAGE_DATE: 1995 08 28
SOURCE_DEM_DATE: 1964 00 00
AGENCY: WESTERN MAPPING CENTER (WMC)
PRODUCER: UNDEFINED
PRODUCTION_SYSTEM: GIS/MAGIC
COMPRESSION: UNDEFINED
STANDARD_VERSION: 1996 12
METADATA_DATE: 2000 05 27
DATA_FILE_SIZE: 43760064
BYTE_COUNT: 5664
