FILENAME: O4711350.SES.1078801.tif
QUADRANGLE_NAME: BELMORE SLOUGHS
QUADRANT: SE
WEST_LONGITUDE: -113 48 45.00000
EAST_LONGITUDE: -113 45 0.00000
NORTH_LATITUDE: 47 11 15.00000
SOUTH_LATITUDE: 47 7 30.00000
PRODUCTION_DATE: 2000 3 22
RASTER_ORDER: LEFT_RIGHT/TOP_BOTTOM
BAND_ORGANIZATION: SINGLE FILE
BAND_CONTENT: BLACK&WHITE
BAND_CONTENT: UNDEFINED
BAND_CONTENT: UNDEFINED
BITS_PER_PIXEL: 8
SAMPLES_AND_LINES: 5659 7722
HORIZONTAL_DATUM: NAD83
HORIZONTAL_COORDINATE_SYSTEM: UTM
COORDINATE_ZONE: 12
HORIZONTAL_UNITS: METERS
HORIZONTAL_RESOLUTION: 1.00000
SECONDARY_HORIZONTAL_DATUM: NAD27
XY_ORIGIN: 286311.00000 5230139.00000
SECONDARY_XY_ORIGIN: 286375.09800 5229925.61100
NATION: US
NATION: "SCIENCE
STATE: MT
NW_QUAD_CORNER_XY: 286933.68200 5229838.35400
NE_QUAD_CORNER_XY: 291668.21100 5229669.62700
SE_QUAD_CORNERY_XY: 291423.61700 5222724.63300
SW_QUAD_CORNER_XY: 286683.52100 5222893.38800
SECONDARY_NW_QUAD_XY: 286927.08800 5229619.85700
SECONDARY_NE_QUAD_XY: 291661.76400 5229451.12500
SECONDARY_SE_QUAD_XY: 291417.17000 5222506.15700
SECONDARY_SW_QUAD_XY: 286676.92800 5222674.91700
RMSE_XY: 3.80000
IMAGE_SOURCE: BLACK AND WHITE FILM
SOURCE_IMAGE_ID: NAPP 8398 043
SOURCE_IMAGE_DATE: 1995 08 28
SOURCE_IMAGE_ID: NAPP 8398 053
SOURCE_IMAGE_DATE: 1995 08 28
SOURCE_IMAGE_ID: NAPP 8398 044
SOURCE_IMAGE_DATE: 1995 08 28
SOURCE_IMAGE_ID: NAPP 8398 042
SOURCE_IMAGE_DATE: 1995 08 28
SOURCE_DEM_DATE: 1964 00 00
AGENCY: WESTERN MAPPING CENTER (WMC)
PRODUCER: UNDEFINED
PRODUCTION_SYSTEM: GIS/MAGIC
COMPRESSION: UNDEFINED
STANDARD_VERSION: 1996 12
METADATA_DATE: 2000 05 27
DATA_FILE_SIZE: 43704457
BYTE_COUNT: 5659
