FILENAME: O4711350.NES.1078799.tif
QUADRANGLE_NAME: BELMORE SLOUGHS
QUADRANT: NE
WEST_LONGITUDE: -113 48 45.00000
EAST_LONGITUDE: -113 45 0.00000
NORTH_LATITUDE: 47 15 0.00000
SOUTH_LATITUDE: 47 11 15.00000
PRODUCTION_DATE: 2000 3 22
RASTER_ORDER: LEFT_RIGHT/TOP_BOTTOM
BAND_ORGANIZATION: SINGLE FILE
BAND_CONTENT: BLACK&WHITE
BAND_CONTENT: UNDEFINED
BAND_CONTENT: UNDEFINED
BITS_PER_PIXEL: 8
SAMPLES_AND_LINES: 5654 7722
HORIZONTAL_DATUM: NAD83
HORIZONTAL_COORDINATE_SYSTEM: UTM
COORDINATE_ZONE: 12
HORIZONTAL_UNITS: METERS
HORIZONTAL_RESOLUTION: 1.00000
SECONDARY_HORIZONTAL_DATUM: NAD27
XY_ORIGIN: 286561.00000 5237084.00000
SECONDARY_XY_ORIGIN: 286624.89100 5236870.44800
NATION: US
NATION: "SCIENCE
STATE: MT
NW_QUAD_CORNER_XY: 287184.09700 5236783.37900
NE_QUAD_CORNER_XY: 291913.05400 5236614.68000
SE_QUAD_CORNERY_XY: 291668.21100 5229669.62700
SW_QUAD_CORNER_XY: 286933.68200 5229838.35400
SECONDARY_NW_QUAD_XY: 287177.50300 5236564.85600
SECONDARY_NE_QUAD_XY: 291906.60600 5236396.15200
SECONDARY_SE_QUAD_XY: 291661.76400 5229451.12500
SECONDARY_SW_QUAD_XY: 286927.08800 5229619.85700
RMSE_XY: 2.30000
IMAGE_SOURCE: BLACK AND WHITE FILM
SOURCE_IMAGE_ID: NAPP 8398 041
SOURCE_IMAGE_DATE: 1995 08 28
SOURCE_IMAGE_ID: NAPP 8398 042
SOURCE_IMAGE_DATE: 1995 08 28
SOURCE_IMAGE_ID: NAPP 8398 040
SOURCE_IMAGE_DATE: 1995 08 28
SOURCE_IMAGE_ID: NAPP 8398 083
SOURCE_IMAGE_DATE: 1995 08 28
SOURCE_DEM_DATE: 1964 00 00
AGENCY: WESTERN MAPPING CENTER (WMC)
PRODUCER: UNDEFINED
PRODUCTION_SYSTEM: GIS/MAGIC
COMPRESSION: UNDEFINED
STANDARD_VERSION: 1996 12
METADATA_DATE: 2000 05 27
DATA_FILE_SIZE: 43665842
BYTE_COUNT: 5654
