FILENAME: O4711351.SES.1078813.tif
QUADRANGLE_NAME: UPPER JOCKO LAKE
QUADRANT: SE
WEST_LONGITUDE: -113 41 15.00000
EAST_LONGITUDE: -113 37 30.00000
NORTH_LATITUDE: 47 11 15.00000
SOUTH_LATITUDE: 47 7 30.00000
PRODUCTION_DATE: 2000 3 21
RASTER_ORDER: LEFT_RIGHT/TOP_BOTTOM
BAND_ORGANIZATION: SINGLE FILE
BAND_CONTENT: BLACK&WHITE
BAND_CONTENT: UNDEFINED
BAND_CONTENT: UNDEFINED
BITS_PER_PIXEL: 8
SAMPLES_AND_LINES: 5647 7714
HORIZONTAL_DATUM: NAD83
HORIZONTAL_COORDINATE_SYSTEM: UTM
COORDINATE_ZONE: 12
HORIZONTAL_UNITS: METERS
HORIZONTAL_RESOLUTION: 1.00000
SECONDARY_HORIZONTAL_DATUM: NAD27
XY_ORIGIN: 295792.00000 5229805.00000
SECONDARY_XY_ORIGIN: 295855.89000 5229591.54300
NATION: US
NATION: "SCIENCE
STATE: MT
NW_QUAD_CORNER_XY: 296402.75900 5229504.69700
NE_QUAD_CORNER_XY: 301137.32500 5229343.56200
SE_QUAD_CORNERY_XY: 300903.86300 5222398.51500
SW_QUAD_CORNER_XY: 296163.73100 5222559.67600
SECONDARY_NW_QUAD_XY: 296396.45800 5229286.18900
SECONDARY_NE_QUAD_XY: 301131.17100 5229125.05000
SECONDARY_SE_QUAD_XY: 300897.71000 5222180.02900
SECONDARY_SW_QUAD_XY: 296157.43100 5222341.19500
RMSE_XY: 2.20000
IMAGE_SOURCE: BLACK AND WHITE FILM
SOURCE_IMAGE_ID: NAPP 8393 147
SOURCE_IMAGE_DATE: 1995 08 19
SOURCE_IMAGE_ID: NAPP 8393 148
SOURCE_IMAGE_DATE: 1995 08 19
SOURCE_DEM_DATE: 1964 00 00
AGENCY: WESTERN MAPPING CENTER (WMC)
PRODUCER: UNDEFINED
PRODUCTION_SYSTEM: GIS/MAGIC
COMPRESSION: UNDEFINED
STANDARD_VERSION: 1996 12
METADATA_DATE: 2000 05 27
DATA_FILE_SIZE: 43566605
BYTE_COUNT: 5647
