FILENAME: O4711351.NES.1078811.tif
QUADRANGLE_NAME: UPPER JOCKO LAKE
QUADRANT: NE
WEST_LONGITUDE: -113 41 15.00000
EAST_LONGITUDE: -113 37 30.00000
NORTH_LATITUDE: 47 15 0.00000
SOUTH_LATITUDE: 47 11 15.00000
PRODUCTION_DATE: 2000 3 21
RASTER_ORDER: LEFT_RIGHT/TOP_BOTTOM
BAND_ORGANIZATION: SINGLE FILE
BAND_CONTENT: BLACK&WHITE
BAND_CONTENT: UNDEFINED
BAND_CONTENT: UNDEFINED
BITS_PER_PIXEL: 8
SAMPLES_AND_LINES: 5642 7714
HORIZONTAL_DATUM: NAD83
HORIZONTAL_COORDINATE_SYSTEM: UTM
COORDINATE_ZONE: 12
HORIZONTAL_UNITS: METERS
HORIZONTAL_RESOLUTION: 1.00000
SECONDARY_HORIZONTAL_DATUM: NAD27
XY_ORIGIN: 296031.00000 5236750.00000
SECONDARY_XY_ORIGIN: 296094.69000 5236536.40000
NATION: US
NATION: "SCIENCE
STATE: MT
NW_QUAD_CORNER_XY: 296642.03000 5236449.77700
NE_QUAD_CORNER_XY: 301371.02500 5236288.67000
SE_QUAD_CORNERY_XY: 301137.32500 5229343.56200
SW_QUAD_CORNER_XY: 296402.75900 5229504.69700
SECONDARY_NW_QUAD_XY: 296635.72900 5236231.24400
SECONDARY_NE_QUAD_XY: 301364.87000 5236070.13200
SECONDARY_SE_QUAD_XY: 301131.17100 5229125.05000
SECONDARY_SW_QUAD_XY: 296396.45800 5229286.18900
RMSE_XY: 4.00000
IMAGE_SOURCE: BLACK AND WHITE FILM
SOURCE_IMAGE_ID: NAPP 8393 149
SOURCE_IMAGE_DATE: 1995 08 19
SOURCE_IMAGE_ID: NAPP 8393 148
SOURCE_IMAGE_DATE: 1995 08 19
SOURCE_DEM_DATE: 1964 00 00
AGENCY: WESTERN MAPPING CENTER (WMC)
PRODUCER: UNDEFINED
PRODUCTION_SYSTEM: GIS/MAGIC
COMPRESSION: UNDEFINED
STANDARD_VERSION: 1996 12
METADATA_DATE: 2000 05 27
DATA_FILE_SIZE: 43528030
BYTE_COUNT: 5642
