FILENAME: O4711352.NWS.1078840.tif
QUADRANGLE_NAME: SEELEY LAKE WEST
QUADRANT: NW
WEST_LONGITUDE: -113 37 30.00000
EAST_LONGITUDE: -113 33 45.00000
NORTH_LATITUDE: 47 15 0.00000
SOUTH_LATITUDE: 47 11 15.00000
PRODUCTION_DATE: 2000 3 21
RASTER_ORDER: LEFT_RIGHT/TOP_BOTTOM
BAND_ORGANIZATION: SINGLE FILE
BAND_CONTENT: BLACK&WHITE
BAND_CONTENT: UNDEFINED
BAND_CONTENT: UNDEFINED
BITS_PER_PIXEL: 8
SAMPLES_AND_LINES: 5636 7710
HORIZONTAL_DATUM: NAD83
HORIZONTAL_COORDINATE_SYSTEM: UTM
COORDINATE_ZONE: 12
HORIZONTAL_UNITS: METERS
HORIZONTAL_RESOLUTION: 1.00000
SECONDARY_HORIZONTAL_DATUM: NAD27
XY_ORIGIN: 300766.00000 5236589.00000
SECONDARY_XY_ORIGIN: 300829.57000 5236375.37600
NATION: US
NATION: "SCIENCE
STATE: MT
NW_QUAD_CORNER_XY: 301371.02500 5236288.67000
NE_QUAD_CORNER_XY: 306100.03800 5236131.35800
SE_QUAD_CORNERY_XY: 305871.90900 5229186.22400
SW_QUAD_CORNER_XY: 301137.32500 5229343.56200
SECONDARY_NW_QUAD_XY: 301364.87000 5236070.13200
SECONDARY_NE_QUAD_XY: 306094.03000 5235912.81500
SECONDARY_SE_QUAD_XY: 305865.90200 5228967.70700
SECONDARY_SW_QUAD_XY: 301131.17100 5229125.05000
RMSE_XY: 1.90000
IMAGE_SOURCE: BLACK AND WHITE FILM
SOURCE_IMAGE_ID: NAPP 8403 022
SOURCE_IMAGE_DATE: 1995 09 02
SOURCE_IMAGE_ID: NAPP 8396 153
SOURCE_IMAGE_DATE: 1995 08 27
SOURCE_DEM_DATE: 1964 00 00
AGENCY: WESTERN MAPPING CENTER (WMC)
PRODUCER: UNDEFINED
PRODUCTION_SYSTEM: GIS/MAGIC
COMPRESSION: UNDEFINED
STANDARD_VERSION: 1996 12
METADATA_DATE: 2000 05 27
DATA_FILE_SIZE: 43459196
BYTE_COUNT: 5636
