FILENAME: O4711353.SES.1078849.tif
QUADRANGLE_NAME: SEELEY LAKE EAST
QUADRANT: SE
WEST_LONGITUDE: -113 26 15.00000
EAST_LONGITUDE: -113 22 30.00000
NORTH_LATITUDE: 47 11 15.00000
SOUTH_LATITUDE: 47 7 30.00000
PRODUCTION_DATE: 2000 3 21
RASTER_ORDER: LEFT_RIGHT/TOP_BOTTOM
BAND_ORGANIZATION: SINGLE FILE
BAND_CONTENT: BLACK&WHITE
BAND_CONTENT: UNDEFINED
BAND_CONTENT: UNDEFINED
BITS_PER_PIXEL: 8
SAMPLES_AND_LINES: 5623 7699
HORIZONTAL_DATUM: NAD83
HORIZONTAL_COORDINATE_SYSTEM: UTM
COORDINATE_ZONE: 12
HORIZONTAL_UNITS: METERS
HORIZONTAL_RESOLUTION: 1.00000
SECONDARY_HORIZONTAL_DATUM: NAD27
XY_ORIGIN: 314754.00000 5229183.00000
SECONDARY_XY_ORIGIN: 314817.35100 5228969.40200
NATION: US
NATION: "SCIENCE
STATE: MT
NW_QUAD_CORNER_XY: 315341.13000 5228882.93500
NE_QUAD_CORNER_XY: 320075.76600 5228736.98300
SE_QUAD_CORNERY_XY: 319864.56200 5221791.83700
SW_QUAD_CORNER_XY: 315124.36300 5221937.81300
SECONDARY_NW_QUAD_XY: 315335.41600 5228664.40800
SECONDARY_NE_QUAD_XY: 320070.19800 5228518.45200
SECONDARY_SE_QUAD_XY: 319858.99600 5221573.33200
SECONDARY_SW_QUAD_XY: 315118.64900 5221719.31200
RMSE_XY: 3.80000
IMAGE_SOURCE: BLACK AND WHITE FILM
SOURCE_IMAGE_ID: NAPP 8396 124
SOURCE_IMAGE_DATE: 1995 08 27
SOURCE_IMAGE_ID: NAPP 8396 123
SOURCE_IMAGE_DATE: 1995 08 27
SOURCE_IMAGE_ID: NAPP 8396 125
SOURCE_IMAGE_DATE: 1995 08 27
SOURCE_DEM_DATE: 1964 00 00
AGENCY: WESTERN MAPPING CENTER (WMC)
PRODUCER: UNDEFINED
PRODUCTION_SYSTEM: GIS/MAGIC
COMPRESSION: UNDEFINED
STANDARD_VERSION: 1996 12
METADATA_DATE: 2000 05 27
DATA_FILE_SIZE: 43297100
BYTE_COUNT: 5623
