FILENAME: O4711353.NWS.1078848.tif
QUADRANGLE_NAME: SEELEY LAKE EAST
QUADRANT: NW
WEST_LONGITUDE: -113 30 0.00000
EAST_LONGITUDE: -113 26 15.00000
NORTH_LATITUDE: 47 15 0.00000
SOUTH_LATITUDE: 47 11 15.00000
PRODUCTION_DATE: 2000 3 21
RASTER_ORDER: LEFT_RIGHT/TOP_BOTTOM
BAND_ORGANIZATION: SINGLE FILE
BAND_CONTENT: BLACK&WHITE
BAND_CONTENT: UNDEFINED
BAND_CONTENT: UNDEFINED
BITS_PER_PIXEL: 8
SAMPLES_AND_LINES: 5624 7702
HORIZONTAL_DATUM: NAD83
HORIZONTAL_COORDINATE_SYSTEM: UTM
COORDINATE_ZONE: 12
HORIZONTAL_UNITS: METERS
HORIZONTAL_RESOLUTION: 1.00000
SECONDARY_HORIZONTAL_DATUM: NAD27
XY_ORIGIN: 310236.00000 5236278.00000
SECONDARY_XY_ORIGIN: 310299.33500 5236064.32700
NATION: US
NATION: "SCIENCE
STATE: MT
NW_QUAD_CORNER_XY: 310829.07000 5235977.84100
NE_QUAD_CORNER_XY: 315558.11900 5235828.11900
SE_QUAD_CORNERY_XY: 315341.13000 5228882.93500
SW_QUAD_CORNER_XY: 310606.51100 5229032.68200
SECONDARY_NW_QUAD_XY: 310823.20800 5235759.29400
SECONDARY_NE_QUAD_XY: 315552.40400 5235609.56700
SECONDARY_SE_QUAD_XY: 315335.41600 5228664.40800
SECONDARY_SW_QUAD_XY: 310600.65000 5228814.16000
RMSE_XY: 1.40000
IMAGE_SOURCE: BLACK AND WHITE FILM
SOURCE_IMAGE_ID: NAPP 8401 012
SOURCE_IMAGE_DATE: 1995 08 31
SOURCE_DEM_DATE: 1964 00 00
AGENCY: WESTERN MAPPING CENTER (WMC)
PRODUCER: UNDEFINED
PRODUCTION_SYSTEM: GIS/MAGIC
COMPRESSION: UNDEFINED
STANDARD_VERSION: 1996 12
METADATA_DATE: 2000 05 27
DATA_FILE_SIZE: 43321672
BYTE_COUNT: 5624
