FILENAME: O4711353.NES.1078847.tif
QUADRANGLE_NAME: SEELEY LAKE EAST
QUADRANT: NE
WEST_LONGITUDE: -113 26 15.00000
EAST_LONGITUDE: -113 22 30.00000
NORTH_LATITUDE: 47 15 0.00000
SOUTH_LATITUDE: 47 11 15.00000
PRODUCTION_DATE: 2000 3 21
RASTER_ORDER: LEFT_RIGHT/TOP_BOTTOM
BAND_ORGANIZATION: SINGLE FILE
BAND_CONTENT: BLACK&WHITE
BAND_CONTENT: UNDEFINED
BAND_CONTENT: UNDEFINED
BITS_PER_PIXEL: 8
SAMPLES_AND_LINES: 5618 7699
HORIZONTAL_DATUM: NAD83
HORIZONTAL_COORDINATE_SYSTEM: UTM
COORDINATE_ZONE: 12
HORIZONTAL_UNITS: METERS
HORIZONTAL_RESOLUTION: 1.00000
SECONDARY_HORIZONTAL_DATUM: NAD27
XY_ORIGIN: 314971.00000 5236129.00000
SECONDARY_XY_ORIGIN: 315034.16400 5235915.28700
NATION: US
NATION: "SCIENCE
STATE: MT
NW_QUAD_CORNER_XY: 315558.11900 5235828.11900
NE_QUAD_CORNER_XY: 320287.18500 5235682.19200
SE_QUAD_CORNERY_XY: 320075.76600 5228736.98300
SW_QUAD_CORNER_XY: 315341.13000 5228882.93500
SECONDARY_NW_QUAD_XY: 315552.40400 5235609.56700
SECONDARY_NE_QUAD_XY: 320281.61600 5235463.63500
SECONDARY_SE_QUAD_XY: 320070.19800 5228518.45200
SECONDARY_SW_QUAD_XY: 315335.41600 5228664.40800
RMSE_XY: 3.90000
IMAGE_SOURCE: BLACK AND WHITE FILM
SOURCE_IMAGE_ID: NAPP 8396 126
SOURCE_IMAGE_DATE: 1995 08 27
SOURCE_IMAGE_ID: NAPP 8396 127
SOURCE_IMAGE_DATE: 1995 08 27
SOURCE_DEM_DATE: 1964 00 00
AGENCY: WESTERN MAPPING CENTER (WMC)
PRODUCER: UNDEFINED
PRODUCTION_SYSTEM: GIS/MAGIC
COMPRESSION: UNDEFINED
STANDARD_VERSION: 1996 12
METADATA_DATE: 2000 05 27
DATA_FILE_SIZE: 43258600
BYTE_COUNT: 5618
