FILENAME: O4711356.NWS.949945.tif
QUADRANGLE_NAME: SPREAD MOUNTAIN
QUADRANT: NW
WEST_LONGITUDE: -113 7 30.00000
EAST_LONGITUDE: -113 3 45.00000
NORTH_LATITUDE: 47 15 0.00000
SOUTH_LATITUDE: 47 11 15.00000
PRODUCTION_DATE: 1998 12 18
RASTER_ORDER: LEFT_RIGHT/TOP_BOTTOM
BAND_ORGANIZATION: SINGLE FILE
BAND_CONTENT: BLACK&WHITE
BAND_CONTENT: UNDEFINED
BAND_CONTENT: UNDEFINED
BITS_PER_PIXEL: 8
SAMPLES_AND_LINES: 5610 7710
HORIZONTAL_DATUM: NAD83
HORIZONTAL_COORDINATE_SYSTEM: UTM
COORDINATE_ZONE: 12
HORIZONTAL_UNITS: METERS
HORIZONTAL_RESOLUTION: 1.00000
SECONDARY_HORIZONTAL_DATUM: NAD27
XY_ORIGIN: 338640.00000 5235450.00000
SECONDARY_XY_ORIGIN: 338702.51200 5235236.14600
NATION: US
STATE: MT
NW_QUAD_CORNER_XY: 339203.61100 5235136.42100
NE_QUAD_CORNER_XY: 343932.75600 5235009.46100
SE_QUAD_CORNERY_XY: 343749.17900 5228064.14000
SW_QUAD_CORNER_XY: 339014.46600 5228191.12100
SECONDARY_NW_QUAD_XY: 339198.62900 5234917.84700
SECONDARY_NE_QUAD_XY: 343927.92100 5234790.88400
SECONDARY_SE_QUAD_XY: 343744.34400 5227845.58800
SECONDARY_SW_QUAD_XY: 339009.48500 5227972.57200
RMSE_XY: 4.91000
IMAGE_SOURCE: BLACK AND WHITE FILM
SOURCE_IMAGE_ID: NAPP 8401 117
SOURCE_IMAGE_DATE: 1995 08 31
SOURCE_IMAGE_ID: NAPP 8401 115
SOURCE_IMAGE_DATE: 1995 08 31
SOURCE_DEM_DATE: 1988 00 00
AGENCY: WESTERN MAPPING CENTER (WMC)
PRODUCER: ANALYTICAL SURVEYS INC.
PRODUCTION_SYSTEM: ORBIT OR_RECTIFY V.5.2
COMPRESSION: UNDEFINED
STANDARD_VERSION: 1996 12
METADATA_DATE: 1999 01 06
DATA_FILE_SIZE: 43258710
BYTE_COUNT: 5610
