FILENAME: O4711357.SWS.1078745.tif
QUADRANGLE_NAME: STUART PEAK
QUADRANT: SW
WEST_LONGITUDE: -114 0 0.00000
EAST_LONGITUDE: -113 56 15.00000
NORTH_LATITUDE: 47 3 45.00000
SOUTH_LATITUDE: 47 0 0.00000
PRODUCTION_DATE: 2000 4 18
RASTER_ORDER: LEFT_RIGHT/TOP_BOTTOM
BAND_ORGANIZATION: SINGLE FILE
BAND_CONTENT: BLACK&WHITE
BAND_CONTENT: UNDEFINED
BAND_CONTENT: UNDEFINED
BITS_PER_PIXEL: 8
SAMPLES_AND_LINES: 5687 7733
HORIZONTAL_DATUM: NAD83
HORIZONTAL_COORDINATE_SYSTEM: UTM
COORDINATE_ZONE: 12
HORIZONTAL_UNITS: METERS
HORIZONTAL_RESOLUTION: 1.00000
SECONDARY_HORIZONTAL_DATUM: NAD27
XY_ORIGIN: 271557.00000 5216778.00000
SECONDARY_XY_ORIGIN: 271621.78800 5216565.10600
NATION: US
NATION: "SCIENCE
STATE: MT
NW_QUAD_CORNER_XY: 272196.75500 5216477.61700
NE_QUAD_CORNER_XY: 276942.35600 5216297.43900
SE_QUAD_CORNERY_XY: 276681.59300 5209352.64200
SW_QUAD_CORNER_XY: 271930.43500 5209532.84800
SECONDARY_NW_QUAD_XY: 272189.72300 5216259.18900
SECONDARY_NE_QUAD_XY: 276935.47100 5216079.00600
SECONDARY_SE_QUAD_XY: 276674.70900 5209134.23700
SECONDARY_SW_QUAD_XY: 271923.40500 5209314.44800
RMSE_XY: 3.20000
IMAGE_SOURCE: BLACK AND WHITE FILM
SOURCE_IMAGE_ID: NAPP 8389 050
SOURCE_IMAGE_DATE: 1995 07 31
SOURCE_IMAGE_ID: NAPP 8389 049
SOURCE_IMAGE_DATE: 1995 07 31
SOURCE_IMAGE_ID: NAPP 8389 051
SOURCE_IMAGE_DATE: 1995 07 31
SOURCE_IMAGE_ID: NAPP 8398 073
SOURCE_IMAGE_DATE: 1995 08 28
SOURCE_IMAGE_ID: NAPP 8398 072
SOURCE_IMAGE_DATE: 1995 08 28
SOURCE_DEM_DATE: 1976 00 00
AGENCY: WESTERN MAPPING CENTER (WMC)
PRODUCER: UNDEFINED
PRODUCTION_SYSTEM: GIS/MAGIC
COMPRESSION: UNDEFINED
STANDARD_VERSION: 1996 12
METADATA_DATE: 2000 05 27
DATA_FILE_SIZE: 43983258
BYTE_COUNT: 5687
