FILENAME: O4711359.SES.1078817.tif
QUADRANGLE_NAME: GOLD CREEK PEAK
QUADRANT: SE
WEST_LONGITUDE: -113 41 15.00000
EAST_LONGITUDE: -113 37 30.00000
NORTH_LATITUDE: 47 3 45.00000
SOUTH_LATITUDE: 47 0 0.00000
PRODUCTION_DATE: 2000 4 18
RASTER_ORDER: LEFT_RIGHT/TOP_BOTTOM
BAND_ORGANIZATION: SINGLE FILE
BAND_CONTENT: BLACK&WHITE
BAND_CONTENT: UNDEFINED
BAND_CONTENT: UNDEFINED
BITS_PER_PIXEL: 8
SAMPLES_AND_LINES: 5658 7714
HORIZONTAL_DATUM: NAD83
HORIZONTAL_COORDINATE_SYSTEM: UTM
COORDINATE_ZONE: 12
HORIZONTAL_UNITS: METERS
HORIZONTAL_RESOLUTION: 1.00000
SECONDARY_HORIZONTAL_DATUM: NAD27
XY_ORIGIN: 295314.00000 5215915.00000
SECONDARY_XY_ORIGIN: 295378.29200 5215701.83200
NATION: US
NATION: "SCIENCE
STATE: MT
NW_QUAD_CORNER_XY: 295924.94700 5215614.71400
NE_QUAD_CORNER_XY: 300670.64000 5215453.52800
SE_QUAD_CORNERY_XY: 300437.65500 5208508.60200
SW_QUAD_CORNER_XY: 295686.40800 5208669.81300
SECONDARY_NW_QUAD_XY: 295918.64900 5215396.26000
SECONDARY_NE_QUAD_XY: 300664.48700 5215235.06900
SECONDARY_SE_QUAD_XY: 300431.50300 5208290.17100
SECONDARY_SW_QUAD_XY: 295680.11000 5208451.38600
RMSE_XY: 2.30000
IMAGE_SOURCE: BLACK AND WHITE FILM
SOURCE_IMAGE_ID: NAPP 8393 143
SOURCE_IMAGE_DATE: 1995 08 19
SOURCE_IMAGE_ID: NAPP 8393 144
SOURCE_IMAGE_DATE: 1995 08 19
SOURCE_DEM_DATE: 1964 00 00
AGENCY: WESTERN MAPPING CENTER (WMC)
PRODUCER: UNDEFINED
PRODUCTION_SYSTEM: GIS/MAGIC
COMPRESSION: UNDEFINED
STANDARD_VERSION: 1996 12
METADATA_DATE: 2000 05 27
DATA_FILE_SIZE: 43651470
BYTE_COUNT: 5658
