FILENAME: O4711360.SWS.1078830.tif
QUADRANGLE_NAME: BELMONT POINT
QUADRANT: SW
WEST_LONGITUDE: -113 37 30.00000
EAST_LONGITUDE: -113 33 45.00000
NORTH_LATITUDE: 47 3 45.00000
SOUTH_LATITUDE: 47 0 0.00000
PRODUCTION_DATE: 2000 4 18
RASTER_ORDER: LEFT_RIGHT/TOP_BOTTOM
BAND_ORGANIZATION: SINGLE FILE
BAND_CONTENT: BLACK&WHITE
BAND_CONTENT: UNDEFINED
BAND_CONTENT: UNDEFINED
BITS_PER_PIXEL: 8
SAMPLES_AND_LINES: 5652 7711
HORIZONTAL_DATUM: NAD83
HORIZONTAL_COORDINATE_SYSTEM: UTM
COORDINATE_ZONE: 12
HORIZONTAL_UNITS: METERS
HORIZONTAL_RESOLUTION: 1.00000
SECONDARY_HORIZONTAL_DATUM: NAD27
XY_ORIGIN: 300066.00000 5215754.00000
SECONDARY_XY_ORIGIN: 300130.15700 5215540.78300
NATION: US
NATION: "SCIENCE
STATE: MT
NW_QUAD_CORNER_XY: 300670.64000 5215453.52800
NE_QUAD_CORNER_XY: 305416.34900 5215296.14000
SE_QUAD_CORNERY_XY: 305188.91800 5208351.18900
SW_QUAD_CORNER_XY: 300437.65500 5208508.60200
SECONDARY_NW_QUAD_XY: 300664.48700 5215235.06900
SECONDARY_NE_QUAD_XY: 305410.34300 5215077.67600
SECONDARY_SE_QUAD_XY: 305182.91300 5208132.75300
SECONDARY_SW_QUAD_XY: 300431.50300 5208290.17100
RMSE_XY: 3.50000
IMAGE_SOURCE: BLACK AND WHITE FILM
SOURCE_IMAGE_ID: NAPP 8403 016
SOURCE_IMAGE_DATE: 1995 09 02
SOURCE_IMAGE_ID: NAPP 8393 142
SOURCE_IMAGE_DATE: 1995 08 19
SOURCE_IMAGE_ID: NAPP 8393 144
SOURCE_IMAGE_DATE: 1995 08 19
SOURCE_IMAGE_ID: NAPP 8403 017
SOURCE_IMAGE_DATE: 1995 09 02
SOURCE_DEM_DATE: 1987 00 00
AGENCY: WESTERN MAPPING CENTER (WMC)
PRODUCER: UNDEFINED
PRODUCTION_SYSTEM: GIS/MAGIC
COMPRESSION: UNDEFINED
STANDARD_VERSION: 1996 12
METADATA_DATE: 2000 05 27
DATA_FILE_SIZE: 43588224
BYTE_COUNT: 5652
