FILENAME: O4711362.SES.1078865.tif
QUADRANGLE_NAME: WOODWORTH
QUADRANT: SE
WEST_LONGITUDE: -113 18 45.00000
EAST_LONGITUDE: -113 15 0.00000
NORTH_LATITUDE: 47 3 45.00000
SOUTH_LATITUDE: 47 0 0.00000
PRODUCTION_DATE: 2000 5 19
RASTER_ORDER: LEFT_RIGHT/TOP_BOTTOM
BAND_ORGANIZATION: SINGLE FILE
BAND_CONTENT: BLACK&WHITE
BAND_CONTENT: UNDEFINED
BAND_CONTENT: UNDEFINED
BITS_PER_PIXEL: 8
SAMPLES_AND_LINES: 5623 7691
HORIZONTAL_DATUM: NAD83
HORIZONTAL_COORDINATE_SYSTEM: UTM
COORDINATE_ZONE: 12
HORIZONTAL_UNITS: METERS
HORIZONTAL_RESOLUTION: 1.00000
SECONDARY_HORIZONTAL_DATUM: NAD27
XY_ORIGIN: 323824.00000 5215005.00000
SECONDARY_XY_ORIGIN: 323887.39300 5214791.53900
NATION: US
NATION: "SCIENCE
STATE: MT
NW_QUAD_CORNER_XY: 324399.34800 5214704.55200
NE_QUAD_CORNER_XY: 329145.13600 5214566.14500
SE_QUAD_CORNERY_XY: 328945.46800 5207621.08200
SW_QUAD_CORNER_XY: 324194.12800 5207759.51000
SECONDARY_NW_QUAD_XY: 324393.92800 5214486.06900
SECONDARY_NE_QUAD_XY: 329139.86300 5214347.65800
SECONDARY_SE_QUAD_XY: 328940.19500 5207402.62300
SECONDARY_SW_QUAD_XY: 324188.70900 5207541.05600
RMSE_XY: 1.10000
IMAGE_SOURCE: BLACK AND WHITE FILM
SOURCE_IMAGE_ID: NAPP 8391 187
SOURCE_IMAGE_DATE: 1995 08 01
SOURCE_IMAGE_ID: NAPP 8390 064
SOURCE_IMAGE_DATE: 1995 07 31
SOURCE_IMAGE_ID: NAPP 8391 186
SOURCE_IMAGE_DATE: 1995 08 01
SOURCE_DEM_DATE: 1987 00 00
AGENCY: WESTERN MAPPING CENTER (WMC)
PRODUCER: UNDEFINED
PRODUCTION_SYSTEM: GIS/MAGIC
COMPRESSION: UNDEFINED
STANDARD_VERSION: 1996 12
METADATA_DATE: 2000 05 27
DATA_FILE_SIZE: 43252116
BYTE_COUNT: 5623
