FILENAME: O4711362.NES.1078863.tif
QUADRANGLE_NAME: WOODWORTH
QUADRANT: NE
WEST_LONGITUDE: -113 18 45.00000
EAST_LONGITUDE: -113 15 0.00000
NORTH_LATITUDE: 47 7 30.00000
SOUTH_LATITUDE: 47 3 45.00000
PRODUCTION_DATE: 2000 4 21
RASTER_ORDER: LEFT_RIGHT/TOP_BOTTOM
BAND_ORGANIZATION: SINGLE FILE
BAND_CONTENT: BLACK&WHITE
BAND_CONTENT: UNDEFINED
BAND_CONTENT: UNDEFINED
BITS_PER_PIXEL: 8
SAMPLES_AND_LINES: 5618 7691
HORIZONTAL_DATUM: NAD83
HORIZONTAL_COORDINATE_SYSTEM: UTM
COORDINATE_ZONE: 12
HORIZONTAL_UNITS: METERS
HORIZONTAL_RESOLUTION: 1.00000
SECONDARY_HORIZONTAL_DATUM: NAD27
XY_ORIGIN: 324029.00000 5221950.00000
SECONDARY_XY_ORIGIN: 324092.20200 5221736.42700
NATION: US
NATION: "SCIENCE
STATE: MT
NW_QUAD_CORNER_XY: 324604.77800 5221649.65700
NE_QUAD_CORNER_XY: 329345.00800 5221511.27200
SE_QUAD_CORNERY_XY: 329145.13600 5214566.14500
SW_QUAD_CORNER_XY: 324399.34800 5214704.55200
SECONDARY_NW_QUAD_XY: 324599.35700 5221431.14700
SECONDARY_NE_QUAD_XY: 329339.73500 5221292.75800
SECONDARY_SE_QUAD_XY: 329139.86300 5214347.65800
SECONDARY_SW_QUAD_XY: 324393.92800 5214486.06900
RMSE_XY: 1.50000
IMAGE_SOURCE: BLACK AND WHITE FILM
SOURCE_IMAGE_ID: NAPP 8391 189
SOURCE_IMAGE_DATE: 1995 08 01
SOURCE_IMAGE_ID: NAPP 8393 156
SOURCE_IMAGE_DATE: 1995 08 19
SOURCE_DEM_DATE: 1987 00 00
AGENCY: WESTERN MAPPING CENTER (WMC)
PRODUCER: UNDEFINED
PRODUCTION_SYSTEM: GIS/MAGIC
COMPRESSION: UNDEFINED
STANDARD_VERSION: 1996 12
METADATA_DATE: 2000 05 27
DATA_FILE_SIZE: 43213656
BYTE_COUNT: 5618
