FILENAME: O4711363.SES.1078885.tif
QUADRANGLE_NAME: OVANDO
QUADRANT: SE
WEST_LONGITUDE: -113 11 15.00000
EAST_LONGITUDE: -113 7 30.00000
NORTH_LATITUDE: 47 3 45.00000
SOUTH_LATITUDE: 47 0 0.00000
PRODUCTION_DATE: 2000 4 21
RASTER_ORDER: LEFT_RIGHT/TOP_BOTTOM
BAND_ORGANIZATION: SINGLE FILE
BAND_CONTENT: BLACK&WHITE
BAND_CONTENT: UNDEFINED
BAND_CONTENT: UNDEFINED
BITS_PER_PIXEL: 8
SAMPLES_AND_LINES: 5611 7684
HORIZONTAL_DATUM: NAD83
HORIZONTAL_COORDINATE_SYSTEM: UTM
COORDINATE_ZONE: 12
HORIZONTAL_UNITS: METERS
HORIZONTAL_RESOLUTION: 1.00000
SECONDARY_HORIZONTAL_DATUM: NAD27
XY_ORIGIN: 333327.00000 5214732.00000
SECONDARY_XY_ORIGIN: 333390.09900 5214518.47000
NATION: US
NATION: "SCIENCE
STATE: MT
NW_QUAD_CORNER_XY: 333890.93800 5214431.53300
NE_QUAD_CORNER_XY: 338636.75500 5214300.71700
SE_QUAD_CORNERY_XY: 338448.18900 5207355.61300
SW_QUAD_CORNER_XY: 333696.82100 5207486.45000
SECONDARY_NW_QUAD_XY: 333885.81200 5214213.04200
SECONDARY_NE_QUAD_XY: 338631.77500 5214082.22200
SECONDARY_SE_QUAD_XY: 338443.21000 5207137.14700
SECONDARY_SW_QUAD_XY: 333691.69600 5207267.98700
RMSE_XY: 1.70000
IMAGE_SOURCE: BLACK AND WHITE FILM
SOURCE_IMAGE_ID: NAPP 8401 122
SOURCE_IMAGE_DATE: 1995 08 31
SOURCE_IMAGE_ID: NAPP 8393 160
SOURCE_IMAGE_DATE: 1995 08 19
SOURCE_IMAGE_ID: NAPP 8401 121
SOURCE_IMAGE_DATE: 1995 08 31
SOURCE_IMAGE_ID: NAPP 8401 123
SOURCE_IMAGE_DATE: 1995 08 31
SOURCE_DEM_DATE: 1977 00 00
AGENCY: WESTERN MAPPING CENTER (WMC)
PRODUCER: UNDEFINED
PRODUCTION_SYSTEM: GIS/MAGIC
COMPRESSION: UNDEFINED
STANDARD_VERSION: 1996 12
METADATA_DATE: 2000 05 27
DATA_FILE_SIZE: 43120535
BYTE_COUNT: 5611
