FILENAME: O4711363.NWS.1078884.tif
QUADRANGLE_NAME: OVANDO
QUADRANT: NW
WEST_LONGITUDE: -113 15 0.00000
EAST_LONGITUDE: -113 11 15.00000
NORTH_LATITUDE: 47 7 30.00000
SOUTH_LATITUDE: 47 3 45.00000
PRODUCTION_DATE: 2000 4 21
RASTER_ORDER: LEFT_RIGHT/TOP_BOTTOM
BAND_ORGANIZATION: SINGLE FILE
BAND_CONTENT: BLACK&WHITE
BAND_CONTENT: UNDEFINED
BAND_CONTENT: UNDEFINED
BITS_PER_PIXEL: 8
SAMPLES_AND_LINES: 5612 7688
HORIZONTAL_DATUM: NAD83
HORIZONTAL_COORDINATE_SYSTEM: UTM
COORDINATE_ZONE: 12
HORIZONTAL_UNITS: METERS
HORIZONTAL_RESOLUTION: 1.00000
SECONDARY_HORIZONTAL_DATUM: NAD27
XY_ORIGIN: 328775.00000 5221812.00000
SECONDARY_XY_ORIGIN: 328838.03700 5221598.37800
NATION: US
NATION: "SCIENCE
STATE: MT
NW_QUAD_CORNER_XY: 329345.00800 5221511.27200
NE_QUAD_CORNER_XY: 334085.25400 5221376.68100
SE_QUAD_CORNERY_XY: 333890.93800 5214431.53300
SW_QUAD_CORNER_XY: 329145.13600 5214566.14500
SECONDARY_NW_QUAD_XY: 329339.73500 5221292.75800
SECONDARY_NE_QUAD_XY: 334080.12700 5221158.16400
SECONDARY_SE_QUAD_XY: 333885.81200 5214213.04200
SECONDARY_SW_QUAD_XY: 329139.86300 5214347.65800
RMSE_XY: 2.70000
IMAGE_SOURCE: BLACK AND WHITE FILM
SOURCE_IMAGE_ID: NAPP 8393 157
SOURCE_IMAGE_DATE: 1995 08 19
SOURCE_IMAGE_ID: NAPP 8393 156
SOURCE_IMAGE_DATE: 1995 08 19
SOURCE_DEM_DATE: 1977 00 00
AGENCY: WESTERN MAPPING CENTER (WMC)
PRODUCER: UNDEFINED
PRODUCTION_SYSTEM: GIS/MAGIC
COMPRESSION: UNDEFINED
STANDARD_VERSION: 1996 12
METADATA_DATE: 2000 05 27
DATA_FILE_SIZE: 43150668
BYTE_COUNT: 5612
