FILENAME: O4711364.SWS.1078910.tif
QUADRANGLE_NAME: OVANDO MOUNTAIN
QUADRANT: SW
WEST_LONGITUDE: -113 7 30.00000
EAST_LONGITUDE: -113 3 45.00000
NORTH_LATITUDE: 47 3 45.00000
SOUTH_LATITUDE: 47 0 0.00000
PRODUCTION_DATE: 2000 4 21
RASTER_ORDER: LEFT_RIGHT/TOP_BOTTOM
BAND_ORGANIZATION: SINGLE FILE
BAND_CONTENT: BLACK&WHITE
BAND_CONTENT: UNDEFINED
BAND_CONTENT: UNDEFINED
BITS_PER_PIXEL: 8
SAMPLES_AND_LINES: 5605 7680
HORIZONTAL_DATUM: NAD83
HORIZONTAL_COORDINATE_SYSTEM: UTM
COORDINATE_ZONE: 12
HORIZONTAL_UNITS: METERS
HORIZONTAL_RESOLUTION: 1.00000
SECONDARY_HORIZONTAL_DATUM: NAD27
XY_ORIGIN: 338079.00000 5214601.00000
SECONDARY_XY_ORIGIN: 338141.96700 5214387.45200
NATION: US
NATION: "SCIENCE
STATE: MT
NW_QUAD_CORNER_XY: 338636.75500 5214300.71700
NE_QUAD_CORNER_XY: 343382.58500 5214173.69500
SE_QUAD_CORNERY_XY: 343199.56900 5207228.57300
SW_QUAD_CORNER_XY: 338448.18900 5207355.61300
SECONDARY_NW_QUAD_XY: 338631.77500 5214082.22200
SECONDARY_NE_QUAD_XY: 343377.75100 5213955.19600
SECONDARY_SE_QUAD_XY: 343194.73700 5207010.10200
SECONDARY_SW_QUAD_XY: 338443.21000 5207137.14700
RMSE_XY: 2.00000
IMAGE_SOURCE: BLACK AND WHITE FILM
SOURCE_IMAGE_ID: NAPP 8398 193
SOURCE_IMAGE_DATE: 1995 08 28
SOURCE_IMAGE_ID: NAPP 8398 192
SOURCE_IMAGE_DATE: 1995 08 28
SOURCE_DEM_DATE: 1988 00 00
AGENCY: WESTERN MAPPING CENTER (WMC)
PRODUCER: UNDEFINED
PRODUCTION_SYSTEM: GIS/MAGIC
COMPRESSION: UNDEFINED
STANDARD_VERSION: 1996 12
METADATA_DATE: 2000 05 27
DATA_FILE_SIZE: 43052005
BYTE_COUNT: 5605
