FILENAME: O4711364.NES.1078907.tif
QUADRANGLE_NAME: OVANDO MOUNTAIN
QUADRANT: NE
WEST_LONGITUDE: -113 3 45.00000
EAST_LONGITUDE: -113 0 0.00000
NORTH_LATITUDE: 47 7 30.00000
SOUTH_LATITUDE: 47 3 45.00000
PRODUCTION_DATE: 2000 5 27
RASTER_ORDER: LEFT_RIGHT/TOP_BOTTOM
BAND_ORGANIZATION: SINGLE FILE
BAND_CONTENT: BLACK&WHITE
BAND_CONTENT: UNDEFINED
BAND_CONTENT: UNDEFINED
BITS_PER_PIXEL: 8
SAMPLES_AND_LINES: 5595 7676
HORIZONTAL_DATUM: NAD83
HORIZONTAL_COORDINATE_SYSTEM: UTM
COORDINATE_ZONE: 12
HORIZONTAL_UNITS: METERS
HORIZONTAL_RESOLUTION: 1.00000
SECONDARY_HORIZONTAL_DATUM: NAD27
XY_ORIGIN: 343013.00000 5221419.00000
SECONDARY_XY_ORIGIN: 343075.70500 5221205.33400
NATION: US
NATION: "SCIENCE
STATE: MT
NW_QUAD_CORNER_XY: 343565.78800 5221118.88400
NE_QUAD_CORNER_XY: 348306.07600 5220995.67700
SE_QUAD_CORNERY_XY: 348128.42900 5214050.46800
SW_QUAD_CORNER_XY: 343382.58500 5214173.69500
SECONDARY_NW_QUAD_XY: 343560.95400 5220900.35800
SECONDARY_NE_QUAD_XY: 348301.38800 5220777.14700
SECONDARY_SE_QUAD_XY: 348123.74100 5213831.96600
SECONDARY_SW_QUAD_XY: 343377.75100 5213955.19600
RMSE_XY: 2.60000
IMAGE_SOURCE: BLACK AND WHITE FILM
SOURCE_IMAGE_ID: NAPP 9489 021
SOURCE_IMAGE_DATE: 1995 08 28
SOURCE_IMAGE_ID: NAPP 8398 195
SOURCE_IMAGE_DATE: 1995 08 28
SOURCE_IMAGE_ID: NAPP 8401 120
SOURCE_IMAGE_DATE: 1995 08 31
SOURCE_IMAGE_ID: NAPP 8399 025
SOURCE_IMAGE_DATE: 1995 08 28
SOURCE_IMAGE_ID: NAPP 8399 023
SOURCE_IMAGE_DATE: 1995 08 28
SOURCE_DEM_DATE: 1988 00 00
AGENCY: WESTERN MAPPING CENTER (WMC)
PRODUCER: UNDEFINED
PRODUCTION_SYSTEM: GIS/MAGIC
COMPRESSION: UNDEFINED
STANDARD_VERSION: 1996 12
METADATA_DATE: 2000 05 27
DATA_FILE_SIZE: 42952815
BYTE_COUNT: 5595
