FILENAME: O4711202.NWS.958249.tif
QUADRANGLE_NAME: MOUNT WRIGHT
QUADRANT: NW
WEST_LONGITUDE: -112 52 30.00000
EAST_LONGITUDE: -112 48 45.00000
NORTH_LATITUDE: 48 0 0.00000
SOUTH_LATITUDE: 47 56 15.00000
PRODUCTION_DATE: 1998 12 10
RASTER_ORDER: LEFT_RIGHT/TOP_BOTTOM
BAND_ORGANIZATION: SINGLE FILE
BAND_CONTENT: BLACK&WHITE
BAND_CONTENT: UNDEFINED
BAND_CONTENT: UNDEFINED
BITS_PER_PIXEL: 8
SAMPLES_AND_LINES: 5520 7680
HORIZONTAL_DATUM: NAD83
HORIZONTAL_COORDINATE_SYSTEM: UTM
COORDINATE_ZONE: 12
HORIZONTAL_UNITS: METERS
HORIZONTAL_RESOLUTION: 1.00000
SECONDARY_HORIZONTAL_DATUM: NAD27
XY_ORIGIN: 359580.00000 5318310.00000
SECONDARY_XY_ORIGIN: 359642.02600 5318094.98900
NATION: US
STATE: MT
NW_QUAD_CORNER_XY: 360136.01100 5318001.21500
NE_QUAD_CORNER_XY: 364797.98000 5317889.69000
SE_QUAD_CORNERY_XY: 364634.70900 5310943.46800
SW_QUAD_CORNER_XY: 359967.10600 5311055.01800
SECONDARY_NW_QUAD_XY: 360131.60900 5317782.38800
SECONDARY_NE_QUAD_XY: 364793.72500 5317670.85900
SECONDARY_SE_QUAD_XY: 364630.45500 5310724.65300
SECONDARY_SW_QUAD_XY: 359962.70500 5310836.20600
RMSE_XY: 2.43000
IMAGE_SOURCE: BLACK AND WHITE FILM
SOURCE_IMAGE_ID: NAPP 9491 46
SOURCE_IMAGE_DATE: 1995 09 01
SOURCE_IMAGE_ID: NAPP 9491 48
SOURCE_IMAGE_DATE: 1995 09 01
SOURCE_IMAGE_ID: NAPP 9490 10
SOURCE_IMAGE_DATE: 1995 08 31
SOURCE_DEM_DATE: 1995 00 00
AGENCY: WESTERN MAPPING CENTER (WMC)
PRODUCER: ANALYTICAL SURVEYS INC.
PRODUCTION_SYSTEM: ORBIT OR_RECTIFY V.5.2
COMPRESSION: UNDEFINED
STANDARD_VERSION: 1996 12
METADATA_DATE: 1998 12 21
DATA_FILE_SIZE: 42399120
BYTE_COUNT: 5520
