FILENAME: O4711207.SWS.950367.tif
QUADRANGLE_NAME: AGAWAM SOUTH
QUADRANT: SW
WEST_LONGITUDE: -112 15 0.00000
EAST_LONGITUDE: -112 11 15.00000
NORTH_LATITUDE: 47 56 15.00000
SOUTH_LATITUDE: 47 52 30.00000
PRODUCTION_DATE: 1998 12 16
RASTER_ORDER: LEFT_RIGHT/TOP_BOTTOM
BAND_ORGANIZATION: SINGLE FILE
BAND_CONTENT: BLACK&WHITE
BAND_CONTENT: UNDEFINED
BAND_CONTENT: UNDEFINED
BITS_PER_PIXEL: 8
SAMPLES_AND_LINES: 5490 7650
HORIZONTAL_DATUM: NAD83
HORIZONTAL_COORDINATE_SYSTEM: UTM
COORDINATE_ZONE: 12
HORIZONTAL_UNITS: METERS
HORIZONTAL_RESOLUTION: 1.00000
SECONDARY_HORIZONTAL_DATUM: NAD27
XY_ORIGIN: 406140.00000 5310420.00000
SECONDARY_XY_ORIGIN: 406201.29400 5310205.17900
NATION: US
STATE: MT
NW_QUAD_CORNER_XY: 406643.80000 5310109.74800
NE_QUAD_CORNER_XY: 411311.54100 5310036.02400
SE_QUAD_CORNERY_XY: 411204.69400 5303089.67100
SW_QUAD_CORNER_XY: 406531.32800 5303163.41200
SECONDARY_NW_QUAD_XY: 406640.86600 5309890.90600
SECONDARY_NE_QUAD_XY: 411308.75400 5309817.18000
SECONDARY_SE_QUAD_XY: 411201.90700 5302870.84400
SECONDARY_SW_QUAD_XY: 406528.39400 5302944.58600
RMSE_XY: 0.52000
IMAGE_SOURCE: BLACK AND WHITE FILM
SOURCE_IMAGE_ID: NAPP 8380 126
SOURCE_IMAGE_DATE: 1995 07 01
SOURCE_DEM_DATE: 1982 00 00
AGENCY: WESTERN MAPPING CENTER (WMC)
PRODUCER: ANALYTICAL SURVEYS INC.
PRODUCTION_SYSTEM: ORBIT OR_RECTIFY V.5.2
COMPRESSION: UNDEFINED
STANDARD_VERSION: 1996 12
METADATA_DATE: 1998 12 17
DATA_FILE_SIZE: 42003990
BYTE_COUNT: 5490
