FILENAME: O4711207.SES.950366.tif
QUADRANGLE_NAME: AGAWAM SOUTH
QUADRANT: SE
WEST_LONGITUDE: -112 11 15.00000
EAST_LONGITUDE: -112 7 30.00000
NORTH_LATITUDE: 47 56 15.00000
SOUTH_LATITUDE: 47 52 30.00000
PRODUCTION_DATE: 1998 12 16
RASTER_ORDER: LEFT_RIGHT/TOP_BOTTOM
BAND_ORGANIZATION: SINGLE FILE
BAND_CONTENT: BLACK&WHITE
BAND_CONTENT: UNDEFINED
BAND_CONTENT: UNDEFINED
BITS_PER_PIXEL: 8
SAMPLES_AND_LINES: 5460 7650
HORIZONTAL_DATUM: NAD83
HORIZONTAL_COORDINATE_SYSTEM: UTM
COORDINATE_ZONE: 12
HORIZONTAL_UNITS: METERS
HORIZONTAL_RESOLUTION: 1.00000
SECONDARY_HORIZONTAL_DATUM: NAD27
XY_ORIGIN: 410820.00000 5310360.00000
SECONDARY_XY_ORIGIN: 410881.21700 5310145.11100
NATION: US
STATE: MT
NW_QUAD_CORNER_XY: 411311.54100 5310036.02400
NE_QUAD_CORNER_XY: 415979.29200 5309966.08100
SE_QUAD_CORNERY_XY: 415878.07000 5303019.71300
SW_QUAD_CORNER_XY: 411204.69400 5303089.67100
SECONDARY_NW_QUAD_XY: 411308.75400 5309817.18000
SECONDARY_NE_QUAD_XY: 415976.65200 5309747.23500
SECONDARY_SE_QUAD_XY: 415875.43000 5302800.88300
SECONDARY_SW_QUAD_XY: 411201.90700 5302870.84400
RMSE_XY: 0.73000
IMAGE_SOURCE: BLACK AND WHITE FILM
SOURCE_IMAGE_ID: NAPP 8380 55
SOURCE_IMAGE_DATE: 1995 07 01
SOURCE_DEM_DATE: 1982 00 00
AGENCY: WESTERN MAPPING CENTER (WMC)
PRODUCER: ANALYTICAL SURVEYS INC.
PRODUCTION_SYSTEM: ORBIT OR_RECTIFY V.5.2
COMPRESSION: UNDEFINED
STANDARD_VERSION: 1996 12
METADATA_DATE: 1998 12 17
DATA_FILE_SIZE: 41774460
BYTE_COUNT: 5460
