FILENAME: O4711218.NES.958284.tif
QUADRANGLE_NAME: ARSENIC MOUNTAIN
QUADRANT: NE
WEST_LONGITUDE: -112 48 45.00000
EAST_LONGITUDE: -112 45 0.00000
NORTH_LATITUDE: 47 45 0.00000
SOUTH_LATITUDE: 47 41 15.00000
PRODUCTION_DATE: 1998 12 11
RASTER_ORDER: LEFT_RIGHT/TOP_BOTTOM
BAND_ORGANIZATION: SINGLE FILE
BAND_CONTENT: BLACK&WHITE
BAND_CONTENT: UNDEFINED
BAND_CONTENT: UNDEFINED
BITS_PER_PIXEL: 8
SAMPLES_AND_LINES: 5550 7680
HORIZONTAL_DATUM: NAD83
HORIZONTAL_COORDINATE_SYSTEM: UTM
COORDINATE_ZONE: 12
HORIZONTAL_UNITS: METERS
HORIZONTAL_RESOLUTION: 1.00000
SECONDARY_HORIZONTAL_DATUM: NAD27
XY_ORIGIN: 363600.00000 5290410.00000
SECONDARY_XY_ORIGIN: 363661.80500 5290195.78200
NATION: US
STATE: MT
NW_QUAD_CORNER_XY: 364145.87000 5290105.21300
NE_QUAD_CORNER_XY: 368830.35400 5289997.37700
SE_QUAD_CORNERY_XY: 368673.34400 5283051.40700
SW_QUAD_CORNER_XY: 363983.24900 5283159.26500
SECONDARY_NW_QUAD_XY: 364141.61600 5289886.44900
SECONDARY_NE_QUAD_XY: 368826.24800 5289778.60900
SECONDARY_SE_QUAD_XY: 368669.23800 5282832.65800
SECONDARY_SW_QUAD_XY: 363978.99600 5282940.51900
RMSE_XY: 2.63300
IMAGE_SOURCE: BLACK AND WHITE FILM
SOURCE_IMAGE_ID: NAPP 8386 160
SOURCE_IMAGE_DATE: 1995 08 05
SOURCE_IMAGE_ID: NAPP 8386 158
SOURCE_IMAGE_DATE: 1995 08 05
SOURCE_IMAGE_ID: NAPP 8386 162
SOURCE_IMAGE_DATE: 1995 08 05
SOURCE_DEM_DATE: 1995 00 00
AGENCY: WESTERN MAPPING CENTER (WMC)
PRODUCER: ANALYTICAL SURVEYS INC.
PRODUCTION_SYSTEM: ORBIT OR_RECTIFY V.5.2
COMPRESSION: UNDEFINED
STANDARD_VERSION: 1996 12
METADATA_DATE: 1998 12 16
DATA_FILE_SIZE: 42629550
BYTE_COUNT: 5550
