FILENAME: O4711219.NWS.950430.tif
QUADRANGLE_NAME: CASTLE REEF
QUADRANT: NW
WEST_LONGITUDE: -112 45 0.00000
EAST_LONGITUDE: -112 41 15.00000
NORTH_LATITUDE: 47 45 0.00000
SOUTH_LATITUDE: 47 41 15.00000
PRODUCTION_DATE: 1998 12 16
RASTER_ORDER: LEFT_RIGHT/TOP_BOTTOM
BAND_ORGANIZATION: SINGLE FILE
BAND_CONTENT: BLACK&WHITE
BAND_CONTENT: UNDEFINED
BAND_CONTENT: UNDEFINED
BITS_PER_PIXEL: 8
SAMPLES_AND_LINES: 5550 7680
HORIZONTAL_DATUM: NAD83
HORIZONTAL_COORDINATE_SYSTEM: UTM
COORDINATE_ZONE: 12
HORIZONTAL_UNITS: METERS
HORIZONTAL_RESOLUTION: 1.00000
SECONDARY_HORIZONTAL_DATUM: NAD27
XY_ORIGIN: 368280.00000 5290320.00000
SECONDARY_XY_ORIGIN: 368341.69600 5290105.75400
NATION: US
STATE: MT
NW_QUAD_CORNER_XY: 368830.35400 5289997.37700
NE_QUAD_CORNER_XY: 373514.85400 5289893.32700
SE_QUAD_CORNERY_XY: 373363.45400 5282947.33500
SW_QUAD_CORNER_XY: 368673.34400 5283051.40700
SECONDARY_NW_QUAD_XY: 368826.24800 5289778.60900
SECONDARY_NE_QUAD_XY: 373510.89400 5289674.55600
SECONDARY_SE_QUAD_XY: 373359.49400 5282728.58300
SECONDARY_SW_QUAD_XY: 368669.23800 5282832.65800
RMSE_XY: 3.38000
IMAGE_SOURCE: BLACK AND WHITE FILM
SOURCE_IMAGE_ID: NAPP 8386 113
SOURCE_IMAGE_DATE: 1995 08 05
SOURCE_IMAGE_ID: NAPP 8386 88
SOURCE_IMAGE_DATE: 1995 08 05
SOURCE_IMAGE_ID: NAPP 8386 114
SOURCE_IMAGE_DATE: 1995 08 05
SOURCE_DEM_DATE: 1990 00 00
AGENCY: WESTERN MAPPING CENTER (WMC)
PRODUCER: ANALYTICAL SURVEYS INC.
PRODUCTION_SYSTEM: ORBIT OR_RECTIFY V.5.2
COMPRESSION: UNDEFINED
STANDARD_VERSION: 1996 12
METADATA_DATE: 1998 12 20
DATA_FILE_SIZE: 42629550
BYTE_COUNT: 5550
