FILENAME: O4711222.NES.950484.tif
QUADRANGLE_NAME: NUNEMAKER HILL
QUADRANT: NE
WEST_LONGITUDE: -112 18 45.00000
EAST_LONGITUDE: -112 15 0.00000
NORTH_LATITUDE: 47 45 0.00000
SOUTH_LATITUDE: 47 41 15.00000
PRODUCTION_DATE: 1998 12 18
RASTER_ORDER: LEFT_RIGHT/TOP_BOTTOM
BAND_ORGANIZATION: SINGLE FILE
BAND_CONTENT: BLACK&WHITE
BAND_CONTENT: UNDEFINED
BAND_CONTENT: UNDEFINED
BITS_PER_PIXEL: 8
SAMPLES_AND_LINES: 5490 7650
HORIZONTAL_DATUM: NAD83
HORIZONTAL_COORDINATE_SYSTEM: UTM
COORDINATE_ZONE: 12
HORIZONTAL_UNITS: METERS
HORIZONTAL_RESOLUTION: 1.00000
SECONDARY_HORIZONTAL_DATUM: NAD27
XY_ORIGIN: 401130.00000 5289660.00000
SECONDARY_XY_ORIGIN: 401191.25600 5289445.57600
NATION: US
STATE: MT
NW_QUAD_CORNER_XY: 401622.13200 5289348.51300
NE_QUAD_CORNER_XY: 406306.72000 5289270.95700
SE_QUAD_CORNERY_XY: 406194.58500 5282324.83800
SW_QUAD_CORNER_XY: 401504.38800 5282402.41000
SECONDARY_NW_QUAD_XY: 401619.05200 5289129.72500
SECONDARY_NE_QUAD_XY: 406303.78700 5289052.16600
SECONDARY_SE_QUAD_XY: 406191.65200 5282106.06600
SECONDARY_SW_QUAD_XY: 401501.30800 5282183.64000
RMSE_XY: 0.88000
IMAGE_SOURCE: BLACK AND WHITE FILM
SOURCE_IMAGE_ID: NAPP 8381 17
SOURCE_IMAGE_DATE: 1995 07 28
SOURCE_DEM_DATE: 1986 00 00
AGENCY: WESTERN MAPPING CENTER (WMC)
PRODUCER: ANALYTICAL SURVEYS INC.
PRODUCTION_SYSTEM: ORBIT OR_RECTIFY V.5.2
COMPRESSION: UNDEFINED
STANDARD_VERSION: 1996 12
METADATA_DATE: 1998 12 21
DATA_FILE_SIZE: 42003990
BYTE_COUNT: 5490
