FILENAME: O4711226.NES.958288.tif
QUADRANGLE_NAME: PATRICKS BASIN
QUADRANT: NE
WEST_LONGITUDE: -112 48 45.00000
EAST_LONGITUDE: -112 45 0.00000
NORTH_LATITUDE: 47 37 30.00000
SOUTH_LATITUDE: 47 33 45.00000
PRODUCTION_DATE: 1998 12 11
RASTER_ORDER: LEFT_RIGHT/TOP_BOTTOM
BAND_ORGANIZATION: SINGLE FILE
BAND_CONTENT: BLACK&WHITE
BAND_CONTENT: UNDEFINED
BAND_CONTENT: UNDEFINED
BITS_PER_PIXEL: 8
SAMPLES_AND_LINES: 5550 7680
HORIZONTAL_DATUM: NAD83
HORIZONTAL_COORDINATE_SYSTEM: UTM
COORDINATE_ZONE: 12
HORIZONTAL_UNITS: METERS
HORIZONTAL_RESOLUTION: 1.00000
SECONDARY_HORIZONTAL_DATUM: NAD27
XY_ORIGIN: 363270.00000 5276520.00000
SECONDARY_XY_ORIGIN: 363331.85500 5276305.90600
NATION: US
STATE: MT
NW_QUAD_CORNER_XY: 363820.79100 5276213.38600
NE_QUAD_CORNER_XY: 368516.49100 5276105.50600
SE_QUAD_CORNERY_XY: 368359.79600 5269159.67400
SW_QUAD_CORNER_XY: 363658.49600 5269267.57500
SECONDARY_NW_QUAD_XY: 363816.53800 5275994.65900
SECONDARY_NE_QUAD_XY: 368512.38500 5275886.77600
SECONDARY_SE_QUAD_XY: 368355.69000 5268940.96400
SECONDARY_SW_QUAD_XY: 363654.24400 5269048.86900
RMSE_XY: 2.57500
IMAGE_SOURCE: BLACK AND WHITE FILM
SOURCE_IMAGE_ID: NAPP 8386 156
SOURCE_IMAGE_DATE: 1995 08 05
SOURCE_DEM_DATE: 1955 00 00
AGENCY: WESTERN MAPPING CENTER (WMC)
PRODUCER: ANALYTICAL SURVEYS INC.
PRODUCTION_SYSTEM: ORBIT OR_RECTIFY V.5.2
COMPRESSION: UNDEFINED
STANDARD_VERSION: 1996 12
METADATA_DATE: 1998 12 16
DATA_FILE_SIZE: 42629550
BYTE_COUNT: 5550
