FILENAME: O4711229.NWS.950477.tif
QUADRANGLE_NAME: SPLIT ROCK JUNCTION
QUADRANT: NW
WEST_LONGITUDE: -112 30 0.00000
EAST_LONGITUDE: -112 26 15.00000
NORTH_LATITUDE: 47 37 30.00000
SOUTH_LATITUDE: 47 33 45.00000
PRODUCTION_DATE: 1998 12 18
RASTER_ORDER: LEFT_RIGHT/TOP_BOTTOM
BAND_ORGANIZATION: SINGLE FILE
BAND_CONTENT: BLACK&WHITE
BAND_CONTENT: UNDEFINED
BAND_CONTENT: UNDEFINED
BITS_PER_PIXEL: 8
SAMPLES_AND_LINES: 5520 7680
HORIZONTAL_DATUM: NAD83
HORIZONTAL_COORDINATE_SYSTEM: UTM
COORDINATE_ZONE: 12
HORIZONTAL_UNITS: METERS
HORIZONTAL_RESOLUTION: 1.00000
SECONDARY_HORIZONTAL_DATUM: NAD27
XY_ORIGIN: 386790.00000 5276040.00000
SECONDARY_XY_ORIGIN: 386851.47600 5275825.80700
NATION: US
STATE: MT
NW_QUAD_CORNER_XY: 387299.42900 5275711.85700
NE_QUAD_CORNER_XY: 391995.19600 5275622.91100
SE_QUAD_CORNERY_XY: 391866.49300 5268676.98500
SW_QUAD_CORNER_XY: 387165.12900 5268765.94800
SECONDARY_NW_QUAD_XY: 387295.91000 5275493.11500
SECONDARY_NE_QUAD_XY: 391991.82300 5275404.16600
SECONDARY_SE_QUAD_XY: 391863.12100 5268458.26000
SECONDARY_SW_QUAD_XY: 387161.61000 5268547.22600
RMSE_XY: 1.64000
IMAGE_SOURCE: BLACK AND WHITE FILM
SOURCE_IMAGE_ID: NAPP 8384 144
SOURCE_IMAGE_DATE: 1995 08 05
SOURCE_IMAGE_ID: NAPP 8384 142
SOURCE_IMAGE_DATE: 1995 08 05
SOURCE_IMAGE_ID: NAPP 8384 157
SOURCE_IMAGE_DATE: 1995 08 05
SOURCE_DEM_DATE: 1986 00 00
AGENCY: WESTERN MAPPING CENTER (WMC)
PRODUCER: ANALYTICAL SURVEYS INC.
PRODUCTION_SYSTEM: ORBIT OR_RECTIFY V.5.2
COMPRESSION: UNDEFINED
STANDARD_VERSION: 1996 12
METADATA_DATE: 1998 12 28
DATA_FILE_SIZE: 42399120
BYTE_COUNT: 5520
