FILENAME: O4711232.NWS.727465.tif
QUADRANGLE_NAME: LOWRY
QUADRANT: NW
WEST_LONGITUDE: -112 7 30.00000
EAST_LONGITUDE: -112 3 45.00000
NORTH_LATITUDE: 47 37 30.00000
SOUTH_LATITUDE: 47 33 45.00000
PRODUCTION_DATE: 1997 8 11
RASTER_ORDER: LEFT_RIGHT/TOP_BOTTOM
BAND_ORGANIZATION: SINGLE FILE
BAND_CONTENT: BLACK&WHITE
BAND_CONTENT: UNDEFINED
BAND_CONTENT: UNDEFINED
BITS_PER_PIXEL: 8
SAMPLES_AND_LINES: 5460 7617
HORIZONTAL_DATUM: NAD83
HORIZONTAL_COORDINATE_SYSTEM: UTM
COORDINATE_ZONE: 12
HORIZONTAL_UNITS: METERS
HORIZONTAL_RESOLUTION: 1.00000
SECONDARY_HORIZONTAL_DATUM: NAD27
XY_ORIGIN: 415010.53000 5275534.47500
SECONDARY_XY_ORIGIN: 415071.40100 5275320.29200
NATION: US
STATE: MT
NW_QUAD_CORNER_XY: 415474.19100 5275234.97500
NE_QUAD_CORNER_XY: 420170.01900 5275168.74400
SE_QUAD_CORNERY_XY: 420074.89900 5268222.72900
SW_QUAD_CORNER_XY: 415373.47400 5268288.97300
SECONDARY_NW_QUAD_XY: 415471.55100 5275016.21800
SECONDARY_NE_QUAD_XY: 420167.52600 5274949.98500
SECONDARY_SE_QUAD_XY: 420072.40600 5268003.99000
SECONDARY_SW_QUAD_XY: 415370.83500 5268070.23600
RMSE_XY: 0.80000
IMAGE_SOURCE: BLACK AND WHITE FILM
SOURCE_IMAGE_ID: NAPP 8387 37
SOURCE_IMAGE_DATE: 1995 8 9
SOURCE_DEM_DATE: 1997 8 11
AGENCY: WESTERN MAPPING CENTER (WMC)
PRODUCER: Nies Mapping Group
PRODUCTION_SYSTEM: INTERGRAPH- ISPM,ISIR
COMPRESSION: UNDEFINED
STANDARD_VERSION: 1996 12
METADATA_DATE: 1997 12 30
DATA_FILE_SIZE: 41594280
BYTE_COUNT: 5460
