FILENAME: O4711233.NES.958268.tif
QUADRANGLE_NAME: BENCHMARK
QUADRANT: NE
WEST_LONGITUDE: -112 56 15.00000
EAST_LONGITUDE: -112 52 30.00000
NORTH_LATITUDE: 47 30 0.00000
SOUTH_LATITUDE: 47 26 15.00000
PRODUCTION_DATE: 1998 12 11
RASTER_ORDER: LEFT_RIGHT/TOP_BOTTOM
BAND_ORGANIZATION: SINGLE FILE
BAND_CONTENT: BLACK&WHITE
BAND_CONTENT: UNDEFINED
BAND_CONTENT: UNDEFINED
BITS_PER_PIXEL: 8
SAMPLES_AND_LINES: 5580 7710
HORIZONTAL_DATUM: NAD83
HORIZONTAL_COORDINATE_SYSTEM: UTM
COORDINATE_ZONE: 12
HORIZONTAL_UNITS: METERS
HORIZONTAL_RESOLUTION: 1.00000
SECONDARY_HORIZONTAL_DATUM: NAD27
XY_ORIGIN: 353520.00000 5262870.00000
SECONDARY_XY_ORIGIN: 353582.01300 5262656.01400
NATION: US
STATE: MT
NW_QUAD_CORNER_XY: 354082.61900 5262549.04200
NE_QUAD_CORNER_XY: 358789.48500 5262433.54300
SE_QUAD_CORNERY_XY: 358621.92800 5255487.88900
SW_QUAD_CORNER_XY: 353909.47400 5255603.41100
SECONDARY_NW_QUAD_XY: 354078.07500 5262330.36400
SECONDARY_NE_QUAD_XY: 358785.08600 5262214.86100
SECONDARY_SE_QUAD_XY: 358617.53000 5255269.23000
SECONDARY_SW_QUAD_XY: 353904.93000 5255384.75500
RMSE_XY: 3.35500
IMAGE_SOURCE: BLACK AND WHITE FILM
SOURCE_IMAGE_ID: NAPP 9489 35
SOURCE_IMAGE_DATE: 1995 08 28
SOURCE_IMAGE_ID: NAPP 9490 24
SOURCE_IMAGE_DATE: 1995 08 31
SOURCE_IMAGE_ID: NAPP 9489 32
SOURCE_IMAGE_DATE: 1995 08 28
SOURCE_IMAGE_ID: NAPP 9489 37
SOURCE_IMAGE_DATE: 1995 08 28
SOURCE_DEM_DATE: 1988 00 00
AGENCY: WESTERN MAPPING CENTER (WMC)
PRODUCER: ANALYTICAL SURVEYS INC.
PRODUCTION_SYSTEM: ORBIT OR_RECTIFY V.5.2
COMPRESSION: UNDEFINED
STANDARD_VERSION: 1996 12
METADATA_DATE: 1998 12 16
DATA_FILE_SIZE: 43027380
BYTE_COUNT: 5580
