FILENAME: O4711238.NES.950492.tif
QUADRANGLE_NAME: GOUCHNOUR RANCH
QUADRANT: NE
WEST_LONGITUDE: -112 18 45.00000
EAST_LONGITUDE: -112 15 0.00000
NORTH_LATITUDE: 47 30 0.00000
SOUTH_LATITUDE: 47 26 15.00000
PRODUCTION_DATE: 1998 12 18
RASTER_ORDER: LEFT_RIGHT/TOP_BOTTOM
BAND_ORGANIZATION: SINGLE FILE
BAND_CONTENT: BLACK&WHITE
BAND_CONTENT: UNDEFINED
BAND_CONTENT: UNDEFINED
BITS_PER_PIXEL: 8
SAMPLES_AND_LINES: 5520 7650
HORIZONTAL_DATUM: NAD83
HORIZONTAL_COORDINATE_SYSTEM: UTM
COORDINATE_ZONE: 12
HORIZONTAL_UNITS: METERS
HORIZONTAL_RESOLUTION: 1.00000
SECONDARY_HORIZONTAL_DATUM: NAD27
XY_ORIGIN: 400650.00000 5261880.00000
SECONDARY_XY_ORIGIN: 400711.27600 5261665.96900
NATION: US
STATE: MT
NW_QUAD_CORNER_XY: 401151.86500 5261564.53300
NE_QUAD_CORNER_XY: 405858.85400 5261486.91600
SE_QUAD_CORNERY_XY: 405747.16900 5254541.08700
SW_QUAD_CORNER_XY: 401034.59500 5254618.71800
SECONDARY_NW_QUAD_XY: 401148.78700 5261345.82500
SECONDARY_NE_QUAD_XY: 405855.92200 5261268.20500
SECONDARY_SE_QUAD_XY: 405744.23700 5254322.39800
SECONDARY_SW_QUAD_XY: 401031.51600 5254400.03200
RMSE_XY: 1.27000
IMAGE_SOURCE: BLACK AND WHITE FILM
SOURCE_IMAGE_ID: NAPP 8381 9
SOURCE_IMAGE_DATE: 1995 07 28
SOURCE_DEM_DATE: 1998 01 01
AGENCY: WESTERN MAPPING CENTER (WMC)
PRODUCER: ANALYTICAL SURVEYS INC.
PRODUCTION_SYSTEM: ORBIT OR_RECTIFY V.5.2
COMPRESSION: UNDEFINED
STANDARD_VERSION: 1996 12
METADATA_DATE: 1998 12 21
DATA_FILE_SIZE: 42233520
BYTE_COUNT: 5520
