FILENAME: O4711241.SWS.949871.tif
QUADRANGLE_NAME: FLINT MOUNTAIN
QUADRANT: SW
WEST_LONGITUDE: -113 0 0.00000
EAST_LONGITUDE: -112 56 15.00000
NORTH_LATITUDE: 47 18 45.00000
SOUTH_LATITUDE: 47 15 0.00000
PRODUCTION_DATE: 1998 12 18
RASTER_ORDER: LEFT_RIGHT/TOP_BOTTOM
BAND_ORGANIZATION: SINGLE FILE
BAND_CONTENT: BLACK&WHITE
BAND_CONTENT: UNDEFINED
BAND_CONTENT: UNDEFINED
BITS_PER_PIXEL: 8
SAMPLES_AND_LINES: 5610 7680
HORIZONTAL_DATUM: NAD83
HORIZONTAL_COORDINATE_SYSTEM: UTM
COORDINATE_ZONE: 12
HORIZONTAL_UNITS: METERS
HORIZONTAL_RESOLUTION: 1.00000
SECONDARY_HORIZONTAL_DATUM: NAD27
XY_ORIGIN: 348270.00000 5242140.00000
SECONDARY_XY_ORIGIN: 348332.29200 5241926.09400
NATION: US
STATE: MT
NW_QUAD_CORNER_XY: 348840.10800 5241831.70300
NE_QUAD_CORNER_XY: 353563.70900 5241712.34900
SE_QUAD_CORNERY_XY: 353391.08900 5234766.92000
SW_QUAD_CORNER_XY: 348661.91600 5234886.29400
SECONDARY_NW_QUAD_XY: 348835.41800 5241613.09700
SECONDARY_NE_QUAD_XY: 353559.16600 5241493.74000
SECONDARY_SE_QUAD_XY: 353386.54700 5234548.33500
SECONDARY_SW_QUAD_XY: 348657.22700 5234667.71300
RMSE_XY: 4.28000
IMAGE_SOURCE: BLACK AND WHITE FILM
SOURCE_IMAGE_ID: NAPP 9489 26
SOURCE_IMAGE_DATE: 1995 08 28
SOURCE_IMAGE_ID: NAPP 9489 41
SOURCE_IMAGE_DATE: 1995 08 28
SOURCE_DEM_DATE: 1970 00 00
AGENCY: WESTERN MAPPING CENTER (WMC)
PRODUCER: ANALYTICAL SURVEYS INC.
PRODUCTION_SYSTEM: ORBIT OR_RECTIFY V.5.2
COMPRESSION: UNDEFINED
STANDARD_VERSION: 1996 12
METADATA_DATE: 1998 12 29
DATA_FILE_SIZE: 43090410
BYTE_COUNT: 5610
