FILENAME: O4711248.NES.956532.tif
QUADRANGLE_NAME: HENRY CREEK
QUADRANT: NE
WEST_LONGITUDE: -112 3 45.00000
EAST_LONGITUDE: -112 0 0.00000
NORTH_LATITUDE: 47 22 30.00000
SOUTH_LATITUDE: 47 18 45.00000
PRODUCTION_DATE: 1998 12 28
RASTER_ORDER: LEFT_RIGHT/TOP_BOTTOM
BAND_ORGANIZATION: SINGLE FILE
BAND_CONTENT: BLACK&WHITE
BAND_CONTENT: UNDEFINED
BAND_CONTENT: UNDEFINED
BITS_PER_PIXEL: 8
SAMPLES_AND_LINES: 5520 7620
HORIZONTAL_DATUM: NAD83
HORIZONTAL_COORDINATE_SYSTEM: UTM
COORDINATE_ZONE: 12
HORIZONTAL_UNITS: METERS
HORIZONTAL_RESOLUTION: 1.00000
SECONDARY_HORIZONTAL_DATUM: NAD27
XY_ORIGIN: 419310.00000 5247690.00000
SECONDARY_XY_ORIGIN: 419370.72000 5247476.27400
NATION: US
STATE: MT
NW_QUAD_CORNER_XY: 419790.11300 5247385.12500
NE_QUAD_CORNER_XY: 424508.30200 5247322.63300
SE_QUAD_CORNERY_XY: 424419.13900 5240376.90100
SW_QUAD_CORNER_XY: 419695.37700 5240439.40400
SECONDARY_NW_QUAD_XY: 419787.62200 5247166.45200
SECONDARY_NE_QUAD_XY: 424505.95700 5247103.95800
SECONDARY_SE_QUAD_XY: 424416.79500 5240158.25000
SECONDARY_SW_QUAD_XY: 419692.88600 5240220.75500
RMSE_XY: 1.34000
IMAGE_SOURCE: BLACK AND WHITE FILM
SOURCE_IMAGE_ID: NAPP 8387 22
SOURCE_IMAGE_DATE: 1995 08 09
SOURCE_DEM_DATE: 1998 01 01
AGENCY: WESTERN MAPPING CENTER (WMC)
PRODUCER: ANALYTICAL SURVEYS INC.
PRODUCTION_SYSTEM: ORBIT OR_RECTIFY V.5.2
COMPRESSION: UNDEFINED
STANDARD_VERSION: 1996 12
METADATA_DATE: 1999 01 04
DATA_FILE_SIZE: 42067920
BYTE_COUNT: 5520
