FILENAME: O4711249.NES.949936.tif
QUADRANGLE_NAME: LAKE MOUNTAIN
QUADRANT: NE
WEST_LONGITUDE: -112 56 15.00000
EAST_LONGITUDE: -112 52 30.00000
NORTH_LATITUDE: 47 15 0.00000
SOUTH_LATITUDE: 47 11 15.00000
PRODUCTION_DATE: 1998 12 18
RASTER_ORDER: LEFT_RIGHT/TOP_BOTTOM
BAND_ORGANIZATION: SINGLE FILE
BAND_CONTENT: BLACK&WHITE
BAND_CONTENT: UNDEFINED
BAND_CONTENT: UNDEFINED
BITS_PER_PIXEL: 8
SAMPLES_AND_LINES: 5610 7710
HORIZONTAL_DATUM: NAD83
HORIZONTAL_COORDINATE_SYSTEM: UTM
COORDINATE_ZONE: 12
HORIZONTAL_UNITS: METERS
HORIZONTAL_RESOLUTION: 1.00000
SECONDARY_HORIZONTAL_DATUM: NAD27
XY_ORIGIN: 352830.00000 5235090.00000
SECONDARY_XY_ORIGIN: 352892.32000 5234876.16100
NATION: US
STATE: MT
NW_QUAD_CORNER_XY: 353391.08900 5234766.92000
NE_QUAD_CORNER_XY: 358120.27600 5234651.33700
SE_QUAD_CORNERY_XY: 357953.39800 5227705.95600
SW_QUAD_CORNER_XY: 353218.64500 5227821.55800
SECONDARY_NW_QUAD_XY: 353386.54700 5234548.33500
SECONDARY_NE_QUAD_XY: 358115.88000 5234432.74900
SECONDARY_SE_QUAD_XY: 357949.00300 5227487.39300
SECONDARY_SW_QUAD_XY: 353214.10300 5227602.99800
RMSE_XY: 2.73000
IMAGE_SOURCE: BLACK AND WHITE FILM
SOURCE_IMAGE_ID: NAPP 9489 43
SOURCE_IMAGE_DATE: 1995 08 28
SOURCE_IMAGE_ID: NAPP 9489 45
SOURCE_IMAGE_DATE: 1995 08 28
SOURCE_IMAGE_ID: NAPP 9489 41
SOURCE_IMAGE_DATE: 1995 08 28
SOURCE_DEM_DATE: 1988 00 00
AGENCY: WESTERN MAPPING CENTER (WMC)
PRODUCER: ANALYTICAL SURVEYS INC.
PRODUCTION_SYSTEM: ORBIT OR_RECTIFY V.5.2
COMPRESSION: UNDEFINED
STANDARD_VERSION: 1996 12
METADATA_DATE: 1999 01 06
DATA_FILE_SIZE: 43258710
BYTE_COUNT: 5610
