FILENAME: O4711250.SWS.949839.tif
QUADRANGLE_NAME: OLSON PEAK
QUADRANT: SW
WEST_LONGITUDE: -112 52 30.00000
EAST_LONGITUDE: -112 48 45.00000
NORTH_LATITUDE: 47 11 15.00000
SOUTH_LATITUDE: 47 7 30.00000
PRODUCTION_DATE: 1998 12 18
RASTER_ORDER: LEFT_RIGHT/TOP_BOTTOM
BAND_ORGANIZATION: SINGLE FILE
BAND_CONTENT: BLACK&WHITE
BAND_CONTENT: UNDEFINED
BAND_CONTENT: UNDEFINED
BITS_PER_PIXEL: 8
SAMPLES_AND_LINES: 5610 7680
HORIZONTAL_DATUM: NAD83
HORIZONTAL_COORDINATE_SYSTEM: UTM
COORDINATE_ZONE: 12
HORIZONTAL_UNITS: METERS
HORIZONTAL_RESOLUTION: 1.00000
SECONDARY_HORIZONTAL_DATUM: NAD27
XY_ORIGIN: 357390.00000 5228010.00000
SECONDARY_XY_ORIGIN: 357452.40600 5227796.28800
NATION: US
STATE: MT
NW_QUAD_CORNER_XY: 357953.39800 5227705.95600
NE_QUAD_CORNER_XY: 362688.16400 5227594.14700
SE_QUAD_CORNERY_XY: 362527.01700 5220648.81500
SW_QUAD_CORNER_XY: 357786.69100 5220760.64300
SECONDARY_NW_QUAD_XY: 357949.00300 5227487.39300
SECONDARY_NE_QUAD_XY: 362683.91500 5227375.58000
SECONDARY_SE_QUAD_XY: 362522.76900 5220430.27500
SECONDARY_SW_QUAD_XY: 357782.29600 5220542.10600
RMSE_XY: 1.88000
IMAGE_SOURCE: BLACK AND WHITE FILM
SOURCE_IMAGE_ID: NAPP 9491 72
SOURCE_IMAGE_DATE: 1995 09 01
SOURCE_DEM_DATE: 1958 00 00
AGENCY: WESTERN MAPPING CENTER (WMC)
PRODUCER: ANALYTICAL SURVEYS INC.
PRODUCTION_SYSTEM: ORBIT OR_RECTIFY V.5.2
COMPRESSION: UNDEFINED
STANDARD_VERSION: 1996 12
METADATA_DATE: 1998 12 28
DATA_FILE_SIZE: 43090410
BYTE_COUNT: 5610
