FILENAME: O4711250.SES.949838.tif
QUADRANGLE_NAME: OLSON PEAK
QUADRANT: SE
WEST_LONGITUDE: -112 48 45.00000
EAST_LONGITUDE: -112 45 0.00000
NORTH_LATITUDE: 47 11 15.00000
SOUTH_LATITUDE: 47 7 30.00000
PRODUCTION_DATE: 1998 12 18
RASTER_ORDER: LEFT_RIGHT/TOP_BOTTOM
BAND_ORGANIZATION: SINGLE FILE
BAND_CONTENT: BLACK&WHITE
BAND_CONTENT: UNDEFINED
BAND_CONTENT: UNDEFINED
BITS_PER_PIXEL: 8
SAMPLES_AND_LINES: 5580 7710
HORIZONTAL_DATUM: NAD83
HORIZONTAL_COORDINATE_SYSTEM: UTM
COORDINATE_ZONE: 12
HORIZONTAL_UNITS: METERS
HORIZONTAL_RESOLUTION: 1.00000
SECONDARY_HORIZONTAL_DATUM: NAD27
XY_ORIGIN: 362160.00000 5227920.00000
SECONDARY_XY_ORIGIN: 362222.37400 5227706.32200
NATION: US
STATE: MT
NW_QUAD_CORNER_XY: 362688.16400 5227594.14700
NE_QUAD_CORNER_XY: 367422.94200 5227486.13000
SE_QUAD_CORNERY_XY: 367267.35500 5220540.78100
SW_QUAD_CORNER_XY: 362527.01700 5220648.81500
SECONDARY_NW_QUAD_XY: 362683.91500 5227375.58000
SECONDARY_NE_QUAD_XY: 367418.84000 5227267.56000
SECONDARY_SE_QUAD_XY: 367263.25400 5220322.23800
SECONDARY_SW_QUAD_XY: 362522.76900 5220430.27500
RMSE_XY: 1.20000
IMAGE_SOURCE: BLACK AND WHITE FILM
SOURCE_IMAGE_ID: NAPP 8386 142
SOURCE_IMAGE_DATE: 1995 08 05
SOURCE_DEM_DATE: 1958 00 00
AGENCY: WESTERN MAPPING CENTER (WMC)
PRODUCER: ANALYTICAL SURVEYS INC.
PRODUCTION_SYSTEM: ORBIT OR_RECTIFY V.5.2
COMPRESSION: UNDEFINED
STANDARD_VERSION: 1996 12
METADATA_DATE: 1998 12 28
DATA_FILE_SIZE: 43027380
BYTE_COUNT: 5580
