FILENAME: O4711252.SWS.965171.tif
QUADRANGLE_NAME: CARIBOU PEAK
QUADRANT: SW
WEST_LONGITUDE: -112 37 30.00000
EAST_LONGITUDE: -112 33 45.00000
NORTH_LATITUDE: 47 11 15.00000
SOUTH_LATITUDE: 47 7 30.00000
PRODUCTION_DATE: 1998 12 23
RASTER_ORDER: LEFT_RIGHT/TOP_BOTTOM
BAND_ORGANIZATION: SINGLE FILE
BAND_CONTENT: BLACK&WHITE
BAND_CONTENT: UNDEFINED
BAND_CONTENT: UNDEFINED
BITS_PER_PIXEL: 8
SAMPLES_AND_LINES: 5550 7680
HORIZONTAL_DATUM: NAD83
HORIZONTAL_COORDINATE_SYSTEM: UTM
COORDINATE_ZONE: 12
HORIZONTAL_UNITS: METERS
HORIZONTAL_RESOLUTION: 1.00000
SECONDARY_HORIZONTAL_DATUM: NAD27
XY_ORIGIN: 376380.00000 5227590.00000
SECONDARY_XY_ORIGIN: 376442.14100 5227376.37600
NATION: US
STATE: MT
NW_QUAD_CORNER_XY: 376892.53400 5227281.47300
NE_QUAD_CORNER_XY: 381627.34700 5227184.83200
SE_QUAD_CORNERY_XY: 381488.43700 5220239.43400
SW_QUAD_CORNER_XY: 376748.06600 5220336.09100
SECONDARY_NW_QUAD_XY: 376888.72500 5227062.89700
SECONDARY_NE_QUAD_XY: 381623.68400 5226966.25300
SECONDARY_SE_QUAD_XY: 381484.77500 5220020.88100
SECONDARY_SW_QUAD_XY: 376744.25700 5220117.54100
RMSE_XY: 2.06000
IMAGE_SOURCE: BLACK AND WHITE FILM
SOURCE_IMAGE_ID: NAPP 8386 27
SOURCE_IMAGE_DATE: 1995 08 05
SOURCE_IMAGE_ID: NAPP 8386 25
SOURCE_IMAGE_DATE: 1995 08 05
SOURCE_IMAGE_ID: NAPP 9486 149
SOURCE_IMAGE_DATE: 1995 08 20
SOURCE_IMAGE_ID: NAPP 8386 70
SOURCE_IMAGE_DATE: 1995 08 05
SOURCE_DEM_DATE: 1997 00 00
AGENCY: WESTERN MAPPING CENTER (WMC)
PRODUCER: ANALYTICAL SURVEYS INC.
PRODUCTION_SYSTEM: ORBIT OR_RECTIFY V.5.2
COMPRESSION: UNDEFINED
STANDARD_VERSION: 1996 12
METADATA_DATE: 1999 02 03
DATA_FILE_SIZE: 42629550
BYTE_COUNT: 5550
