FILENAME: O4711254.NWS.965073.tif
QUADRANGLE_NAME: JOHNSON MOUNTAIN
QUADRANT: NW
WEST_LONGITUDE: -112 22 30.00000
EAST_LONGITUDE: -112 18 45.00000
NORTH_LATITUDE: 47 15 0.00000
SOUTH_LATITUDE: 47 11 15.00000
PRODUCTION_DATE: 1998 12 28
RASTER_ORDER: LEFT_RIGHT/TOP_BOTTOM
BAND_ORGANIZATION: SINGLE FILE
BAND_CONTENT: BLACK&WHITE
BAND_CONTENT: UNDEFINED
BAND_CONTENT: UNDEFINED
BITS_PER_PIXEL: 8
SAMPLES_AND_LINES: 5550 7680
HORIZONTAL_DATUM: NAD83
HORIZONTAL_COORDINATE_SYSTEM: UTM
COORDINATE_ZONE: 12
HORIZONTAL_UNITS: METERS
HORIZONTAL_RESOLUTION: 1.00000
SECONDARY_HORIZONTAL_DATUM: NAD27
XY_ORIGIN: 395460.00000 5234190.00000
SECONDARY_XY_ORIGIN: 395521.54000 5233976.36300
NATION: US
STATE: MT
NW_QUAD_CORNER_XY: 395954.20600 5233863.17000
NE_QUAD_CORNER_XY: 400683.49400 5233781.70700
SE_QUAD_CORNERY_XY: 400566.69900 5226836.18100
SW_QUAD_CORNER_XY: 395831.84700 5226917.65700
SECONDARY_NW_QUAD_XY: 395950.98200 5233644.55700
SECONDARY_NE_QUAD_XY: 400680.41700 5233563.09200
SECONDARY_SE_QUAD_XY: 400563.62200 5226617.59100
SECONDARY_SW_QUAD_XY: 395828.62300 5226699.07000
RMSE_XY: 3.44000
IMAGE_SOURCE: BLACK AND WHITE FILM
SOURCE_IMAGE_ID: NAPP 9486 75
SOURCE_IMAGE_DATE: 1995 08 20
SOURCE_IMAGE_ID: NAPP 8381 115
SOURCE_IMAGE_DATE: 1995 07 28
SOURCE_IMAGE_ID: NAPP 9486 77
SOURCE_IMAGE_DATE: 1995 08 20
SOURCE_DEM_DATE: 1998 01 01
AGENCY: WESTERN MAPPING CENTER (WMC)
PRODUCER: ANALYTICAL SURVEYS INC.
PRODUCTION_SYSTEM: ORBIT OR_RECTIFY V.5.2
COMPRESSION: UNDEFINED
STANDARD_VERSION: 1996 12
METADATA_DATE: 1998 12 30
DATA_FILE_SIZE: 42629550
BYTE_COUNT: 5550
