FILENAME: O4711255.SES.956502.tif
QUADRANGLE_NAME: COMB ROCK
QUADRANT: SE
WEST_LONGITUDE: -112 11 15.00000
EAST_LONGITUDE: -112 7 30.00000
NORTH_LATITUDE: 47 11 15.00000
SOUTH_LATITUDE: 47 7 30.00000
PRODUCTION_DATE: 1998 12 27
RASTER_ORDER: LEFT_RIGHT/TOP_BOTTOM
BAND_ORGANIZATION: SINGLE FILE
BAND_CONTENT: BLACK&WHITE
BAND_CONTENT: UNDEFINED
BAND_CONTENT: UNDEFINED
BITS_PER_PIXEL: 8
SAMPLES_AND_LINES: 5520 7650
HORIZONTAL_DATUM: NAD83
HORIZONTAL_COORDINATE_SYSTEM: UTM
COORDINATE_ZONE: 12
HORIZONTAL_UNITS: METERS
HORIZONTAL_RESOLUTION: 1.00000
SECONDARY_HORIZONTAL_DATUM: NAD27
XY_ORIGIN: 409560.00000 5226990.00000
SECONDARY_XY_ORIGIN: 409621.22000 5226776.53900
NATION: US
STATE: MT
NW_QUAD_CORNER_XY: 410036.43000 5226684.60100
NE_QUAD_CORNER_XY: 414771.30800 5226614.49600
SE_QUAD_CORNERY_XY: 414671.30400 5219669.00600
SW_QUAD_CORNER_XY: 409930.86900 5219739.12200
SECONDARY_NW_QUAD_XY: 410033.64700 5226466.00600
SECONDARY_NE_QUAD_XY: 414768.67100 5226395.89900
SECONDARY_SE_QUAD_XY: 414668.66700 5219450.43600
SECONDARY_SW_QUAD_XY: 409928.08600 5219520.55400
RMSE_XY: 2.50000
IMAGE_SOURCE: BLACK AND WHITE FILM
SOURCE_IMAGE_ID: NAPP 8380 34
SOURCE_IMAGE_DATE: 1995 07 01
SOURCE_DEM_DATE: 1998 01 01
AGENCY: WESTERN MAPPING CENTER (WMC)
PRODUCER: ANALYTICAL SURVEYS INC.
PRODUCTION_SYSTEM: ORBIT OR_RECTIFY V.5.2
COMPRESSION: UNDEFINED
STANDARD_VERSION: 1996 12
METADATA_DATE: 1999 01 05
DATA_FILE_SIZE: 42233520
BYTE_COUNT: 5520
