FILENAME: O4711259.SWS.965163.tif
QUADRANGLE_NAME: STONEWALL MOUNTAIN
QUADRANT: SW
WEST_LONGITUDE: -112 45 0.00000
EAST_LONGITUDE: -112 41 15.00000
NORTH_LATITUDE: 47 3 45.00000
SOUTH_LATITUDE: 47 0 0.00000
PRODUCTION_DATE: 1998 12 22
RASTER_ORDER: LEFT_RIGHT/TOP_BOTTOM
BAND_ORGANIZATION: SINGLE FILE
BAND_CONTENT: BLACK&WHITE
BAND_CONTENT: UNDEFINED
BAND_CONTENT: UNDEFINED
BITS_PER_PIXEL: 8
SAMPLES_AND_LINES: 5610 7680
HORIZONTAL_DATUM: NAD83
HORIZONTAL_COORDINATE_SYSTEM: UTM
COORDINATE_ZONE: 12
HORIZONTAL_UNITS: METERS
HORIZONTAL_RESOLUTION: 1.00000
SECONDARY_HORIZONTAL_DATUM: NAD27
XY_ORIGIN: 366570.00000 5213910.00000
SECONDARY_XY_ORIGIN: 366632.66000 5213696.54400
NATION: US
STATE: MT
NW_QUAD_CORNER_XY: 367111.92700 5213595.50100
NE_QUAD_CORNER_XY: 371857.83100 5213491.24300
SE_QUAD_CORNERY_XY: 371708.11000 5206546.01700
SW_QUAD_CORNER_XY: 366956.65800 5206650.29100
SECONDARY_NW_QUAD_XY: 367107.82600 5213376.98500
SECONDARY_NE_QUAD_XY: 371853.87600 5213272.72400
SECONDARY_SE_QUAD_XY: 371704.15600 5206327.52500
SECONDARY_SW_QUAD_XY: 366952.55800 5206431.80200
RMSE_XY: 2.47000
IMAGE_SOURCE: BLACK AND WHITE FILM
SOURCE_IMAGE_ID: NAPP 8386 135
SOURCE_IMAGE_DATE: 1995 08 05
SOURCE_IMAGE_ID: NAPP 8386 66
SOURCE_IMAGE_DATE: 1995 08 05
SOURCE_DEM_DATE: 1997 00 00
AGENCY: WESTERN MAPPING CENTER (WMC)
PRODUCER: ANALYTICAL SURVEYS INC.
PRODUCTION_SYSTEM: ORBIT OR_RECTIFY V.5.2
COMPRESSION: UNDEFINED
STANDARD_VERSION: 1996 12
METADATA_DATE: 1999 02 03
DATA_FILE_SIZE: 43090410
BYTE_COUNT: 5610
