FILENAME: O4711259.NWS.965161.tif
QUADRANGLE_NAME: STONEWALL MOUNTAIN
QUADRANT: NW
WEST_LONGITUDE: -112 45 0.00000
EAST_LONGITUDE: -112 41 15.00000
NORTH_LATITUDE: 47 7 30.00000
SOUTH_LATITUDE: 47 3 45.00000
PRODUCTION_DATE: 1998 12 22
RASTER_ORDER: LEFT_RIGHT/TOP_BOTTOM
BAND_ORGANIZATION: SINGLE FILE
BAND_CONTENT: BLACK&WHITE
BAND_CONTENT: UNDEFINED
BAND_CONTENT: UNDEFINED
BITS_PER_PIXEL: 8
SAMPLES_AND_LINES: 5610 7710
HORIZONTAL_DATUM: NAD83
HORIZONTAL_COORDINATE_SYSTEM: UTM
COORDINATE_ZONE: 12
HORIZONTAL_UNITS: METERS
HORIZONTAL_RESOLUTION: 1.00000
SECONDARY_HORIZONTAL_DATUM: NAD27
XY_ORIGIN: 366720.00000 5220870.00000
SECONDARY_XY_ORIGIN: 366782.50800 5220656.45200
NATION: US
STATE: MT
NW_QUAD_CORNER_XY: 367267.35500 5220540.78100
NE_QUAD_CORNER_XY: 372007.70500 5220436.54000
SE_QUAD_CORNERY_XY: 371857.83100 5213491.24300
SW_QUAD_CORNER_XY: 367111.92700 5213595.50100
SECONDARY_NW_QUAD_XY: 367263.25400 5220322.23800
SECONDARY_NE_QUAD_XY: 372003.75000 5220217.99300
SECONDARY_SE_QUAD_XY: 371853.87600 5213272.72400
SECONDARY_SW_QUAD_XY: 367107.82600 5213376.98500
RMSE_XY: 1.85000
IMAGE_SOURCE: BLACK AND WHITE FILM
SOURCE_IMAGE_ID: NAPP 8386 133
SOURCE_IMAGE_DATE: 1995 08 05
SOURCE_IMAGE_ID: NAPP 8386 132
SOURCE_IMAGE_DATE: 1995 08 05
SOURCE_IMAGE_ID: NAPP 8386 135
SOURCE_IMAGE_DATE: 1995 08 05
SOURCE_DEM_DATE: 1997 00 00
AGENCY: WESTERN MAPPING CENTER (WMC)
PRODUCER: ANALYTICAL SURVEYS INC.
PRODUCTION_SYSTEM: ORBIT OR_RECTIFY V.5.2
COMPRESSION: UNDEFINED
STANDARD_VERSION: 1996 12
METADATA_DATE: 1999 02 03
DATA_FILE_SIZE: 43258710
BYTE_COUNT: 5610
