FILENAME: O4711263.NWS.956505.tif
QUADRANGLE_NAME: ROBERTS MOUNTAIN
QUADRANT: NW
WEST_LONGITUDE: -112 15 0.00000
EAST_LONGITUDE: -112 11 15.00000
NORTH_LATITUDE: 47 7 30.00000
SOUTH_LATITUDE: 47 3 45.00000
PRODUCTION_DATE: 1998 12 27
RASTER_ORDER: LEFT_RIGHT/TOP_BOTTOM
BAND_ORGANIZATION: SINGLE FILE
BAND_CONTENT: BLACK&WHITE
BAND_CONTENT: UNDEFINED
BAND_CONTENT: UNDEFINED
BITS_PER_PIXEL: 8
SAMPLES_AND_LINES: 5550 7650
HORIZONTAL_DATUM: NAD83
HORIZONTAL_COORDINATE_SYSTEM: UTM
COORDINATE_ZONE: 12
HORIZONTAL_UNITS: METERS
HORIZONTAL_RESOLUTION: 1.00000
SECONDARY_HORIZONTAL_DATUM: NAD27
XY_ORIGIN: 404700.00000 5220120.00000
SECONDARY_XY_ORIGIN: 404761.42900 5219906.63200
NATION: US
STATE: MT
NW_QUAD_CORNER_XY: 405190.44200 5219813.02900
NE_QUAD_CORNER_XY: 409930.86900 5219739.12200
SE_QUAD_CORNERY_XY: 409825.41600 5212793.71600
SW_QUAD_CORNER_XY: 405079.43700 5212867.63500
SECONDARY_NW_QUAD_XY: 405187.51200 5219594.46300
SECONDARY_NE_QUAD_XY: 409928.08600 5219520.55400
SECONDARY_SE_QUAD_XY: 409822.63300 5212575.17500
SECONDARY_SW_QUAD_XY: 405076.50800 5212649.09600
RMSE_XY: 2.11000
IMAGE_SOURCE: BLACK AND WHITE FILM
SOURCE_IMAGE_ID: NAPP 9486 232
SOURCE_IMAGE_DATE: 1995 08 20
SOURCE_DEM_DATE: 1956 00 00
AGENCY: WESTERN MAPPING CENTER (WMC)
PRODUCER: ANALYTICAL SURVEYS INC.
PRODUCTION_SYSTEM: ORBIT OR_RECTIFY V.5.2
COMPRESSION: UNDEFINED
STANDARD_VERSION: 1996 12
METADATA_DATE: 1999 01 05
DATA_FILE_SIZE: 42463050
BYTE_COUNT: 5550
