FILENAME: O4711102.NES.1078123.tif
QUADRANGLE_NAME: COLLINS
QUADRANT: NE
WEST_LONGITUDE: -111 48 45.00000
EAST_LONGITUDE: -111 45 0.00000
NORTH_LATITUDE: 48 0 0.00000
SOUTH_LATITUDE: 47 56 15.00000
PRODUCTION_DATE: 2000 5 3
RASTER_ORDER: LEFT_RIGHT/TOP_BOTTOM
BAND_ORGANIZATION: SINGLE FILE
BAND_CONTENT: BLACK&WHITE
BAND_CONTENT: UNDEFINED
BAND_CONTENT: UNDEFINED
BITS_PER_PIXEL: 8
SAMPLES_AND_LINES: 5401 7600
HORIZONTAL_DATUM: NAD83
HORIZONTAL_COORDINATE_SYSTEM: UTM
COORDINATE_ZONE: 12
HORIZONTAL_UNITS: METERS
HORIZONTAL_RESOLUTION: 1.00000
SECONDARY_HORIZONTAL_DATUM: NAD27
XY_ORIGIN: 438954.00000 5316920.00000
SECONDARY_XY_ORIGIN: 439014.70800 5316704.76900
NATION: US
NATION: "SCIENCE
STATE: MT
NW_QUAD_CORNER_XY: 439391.36300 5316619.59300
NE_QUAD_CORNER_XY: 444053.53700 5316572.34800
SE_QUAD_CORNERY_XY: 443985.99300 5309625.83100
SW_QUAD_CORNER_XY: 439318.18900 5309673.08700
SECONDARY_NW_QUAD_XY: 439389.45600 5316400.72200
SECONDARY_NE_QUAD_XY: 444051.77700 5316353.47600
SECONDARY_SE_QUAD_XY: 443984.23200 5309406.97400
SECONDARY_SW_QUAD_XY: 439316.28200 5309454.23100
RMSE_XY: 1.50000
IMAGE_SOURCE: BLACK AND WHITE FILM
SOURCE_IMAGE_ID: NAPP 8373 216
SOURCE_IMAGE_DATE: 1995 08 09
SOURCE_IMAGE_ID: NAPP 8373 215
SOURCE_IMAGE_DATE: 1995 08 09
SOURCE_DEM_DATE: 1987 00 00
AGENCY: WESTERN MAPPING CENTER (WMC)
PRODUCER: UNDEFINED
PRODUCTION_SYSTEM: GIS/MAGIC
COMPRESSION: UNDEFINED
STANDARD_VERSION: 1996 12
METADATA_DATE: 2000 06 02
DATA_FILE_SIZE: 41053001
BYTE_COUNT: 5401
