FILENAME: O4711103.SES.1078133.tif
QUADRANGLE_NAME: DUTTON NW
QUADRANT: SE
WEST_LONGITUDE: -111 41 15.00000
EAST_LONGITUDE: -111 37 30.00000
NORTH_LATITUDE: 47 56 15.00000
SOUTH_LATITUDE: 47 52 30.00000
PRODUCTION_DATE: 2000 5 3
RASTER_ORDER: LEFT_RIGHT/TOP_BOTTOM
BAND_ORGANIZATION: SINGLE FILE
BAND_CONTENT: BLACK&WHITE
BAND_CONTENT: UNDEFINED
BAND_CONTENT: UNDEFINED
BITS_PER_PIXEL: 8
SAMPLES_AND_LINES: 5394 7593
HORIZONTAL_DATUM: NAD83
HORIZONTAL_COORDINATE_SYSTEM: UTM
COORDINATE_ZONE: 12
HORIZONTAL_UNITS: METERS
HORIZONTAL_RESOLUTION: 1.00000
SECONDARY_HORIZONTAL_DATUM: NAD27
XY_ORIGIN: 448229.00000 5309883.00000
SECONDARY_XY_ORIGIN: 448289.26300 5309667.89600
NATION: US
NATION: "SCIENCE
STATE: MT
NW_QUAD_CORNER_XY: 448653.80300 5309582.35600
NE_QUAD_CORNER_XY: 453321.61900 5309542.66200
SE_QUAD_CORNERY_XY: 453265.38900 5302596.20200
SW_QUAD_CORNER_XY: 448591.94900 5302635.90500
SECONDARY_NW_QUAD_XY: 448652.18900 5309363.49800
SECONDARY_NE_QUAD_XY: 453320.15200 5309323.80300
SECONDARY_SE_QUAD_XY: 453263.92200 5302377.35900
SECONDARY_SW_QUAD_XY: 448590.33600 5302417.06300
RMSE_XY: 0.80000
IMAGE_SOURCE: BLACK AND WHITE FILM
SOURCE_IMAGE_ID: NAPP 8373 159
SOURCE_IMAGE_DATE: 1995 08 09
SOURCE_DEM_DATE: 1987 00 00
AGENCY: WESTERN MAPPING CENTER (WMC)
PRODUCER: UNDEFINED
PRODUCTION_SYSTEM: GIS/MAGIC
COMPRESSION: UNDEFINED
STANDARD_VERSION: 1996 12
METADATA_DATE: 2000 06 02
DATA_FILE_SIZE: 40962036
BYTE_COUNT: 5394
